BEGIN:VCALENDAR
VERSION:2.0
PRODID:-//Anderson, Indiana Speedway - ECPv6.15.20//NONSGML v1.0//EN
CALSCALE:GREGORIAN
METHOD:PUBLISH
X-ORIGINAL-URL:https://andersonspeedway.com
X-WR-CALDESC:Events for Anderson, Indiana Speedway
REFRESH-INTERVAL;VALUE=DURATION:PT1H
X-Robots-Tag:noindex
X-PUBLISHED-TTL:PT1H
BEGIN:VTIMEZONE
TZID:America/Indiana/Indianapolis
BEGIN:DAYLIGHT
TZOFFSETFROM:-0500
TZOFFSETTO:-0400
TZNAME:EDT
DTSTART:20180311T070000
END:DAYLIGHT
BEGIN:STANDARD
TZOFFSETFROM:-0400
TZOFFSETTO:-0500
TZNAME:EST
DTSTART:20181104T060000
END:STANDARD
BEGIN:DAYLIGHT
TZOFFSETFROM:-0500
TZOFFSETTO:-0400
TZNAME:EDT
DTSTART:20190310T070000
END:DAYLIGHT
BEGIN:STANDARD
TZOFFSETFROM:-0400
TZOFFSETTO:-0500
TZNAME:EST
DTSTART:20191103T060000
END:STANDARD
BEGIN:DAYLIGHT
TZOFFSETFROM:-0500
TZOFFSETTO:-0400
TZNAME:EDT
DTSTART:20200308T070000
END:DAYLIGHT
BEGIN:STANDARD
TZOFFSETFROM:-0400
TZOFFSETTO:-0500
TZNAME:EST
DTSTART:20201101T060000
END:STANDARD
END:VTIMEZONE
BEGIN:VEVENT
DTSTART;VALUE=DATE:20190524
DTEND;VALUE=DATE:20190525
DTSTAMP:20260419T083404
CREATED:20181213T153103Z
LAST-MODIFIED:20190305T195925Z
UID:7902-1558656000-1558742399@andersonspeedway.com
SUMMARY:3rd Annual Don and Mel Kenyon Classic presented by Maplewood Cemetery
DESCRIPTION:Friday\, May 24\, 2019 \nDIVISIONS: Mel Kenyon Midgets\, Thunder Roadsters\, Midwest Old-timers Car Club \nGENERAL ADMISSION: Adults – $7\, Kids (6-12) $4\, 5 and under Free \nPIT PASS: 2- Day Pit Pass – $60\, Single Day – $25 \nAges 13 and under are not permitted to the pit area. Ages 14 to 17 will need to fill out a minor waiver form with parent/legal guardian at the pit office. \n\n\n\n\n\n\nEVENT SCHEDULE:  (PRINTABLE VERSION)\n\n\n9:30 PM\nPit Gates Open\n\n\n11:00 PM\nLittle 500 Driver’s Meeting\n\n\n11:30 PM\nLittle 500 Practice\n\n\n1:15 PM\nLittle 500 Ends\n\n\n1:30 PM\nLittle 500 2nd Round Qualifying Begins\n\n\n3:30 PM\nLittle 500 2nd Round Qualifying Ends\n\n\n3:30 PM\nFinal 18 qualifiers select pit # – Flag Stand\n\n\n5:30 PM\nPractice – Kenyon Midgets Thunder Roadsters\n\n\n6:30 PM\nQualifications\n\n\n7:00 PM\nAutograph Session – On Track\n\n\n7:30 PM\nHeat Races\n\n\n\nThunder Roadsters (10 Laps)\n\n\n\nMidwest Vintage Oldtimers Car Club Exhibition\n\n\n\nFeatures\n\n\n\nThunder Roadsters (25 Laps)\n\n\n\nDon and Mel Kenyon Classic
URL:https://andersonspeedway.com/event/3rd-annual-don-and-mel-kenyon-classic/
CATEGORIES:Event
END:VEVENT
BEGIN:VEVENT
DTSTART;VALUE=DATE:20190524
DTEND;VALUE=DATE:20190525
DTSTAMP:20260419T083404
CREATED:20181024T155040Z
LAST-MODIFIED:20190305T195707Z
UID:7782-1558656000-1558742399@andersonspeedway.com
SUMMARY:Pay Less Little 500 presented by UAW-GM Practice and Bump Day
DESCRIPTION:Friday\, May 24\, 2019 \nPractice/Qualifying: Non-Wing Sprint Cars \nGENERAL ADMISSION: Free for fans to watch in the grandstands. Front Gate will be open. \nPIT PASS: 3-Day Pit Pass – $60\, Single Day – $25 \nAges 13 and under are not permitted to the pit area. Ages 14 to 17 will need to fill out a minor waiver form with parent/legal guardian at the pit office. \n\n\n\n\n\n\nEVENT SCHEDULE:  (PRINTABLE VERSION)\n\n\n9:30 PM\nPit Gates Open\n\n\n11:00 PM\nLittle 500 Driver’s Meeting\n\n\n11:30 PM\nLittle 500 Practice\n\n\n1:15 PM\nLittle 500 Ends\n\n\n1:30 PM\nLittle 500 2nd Round Qualifying Begins\n\n\n3:30 PM\nLittle 500 2nd Round Qualifying Ends\n\n\n3:30 PM\nFinal 18 qualifiers select pit # – Flag Stand\n\n\n5:30 PM\nPractice – Kenyon Midgets Thunder Roadsters\n\n\n6:30 PM\nQualifications\n\n\n7:00 PM\nAutograph Session – On Track\n\n\n7:30 PM\nHeat Races\n\n\n\nThunder Roadsters (10 Laps)\n\n\n\nMidwest Vintage Oldtimers Car Club Exhibition\n\n\n\nFeatures\n\n\n\nThunder Roadsters (25 Laps)\n\n\n\nDon and Mel Kenyon Classic
URL:https://andersonspeedway.com/event/pay-less-little-500-presented-by-uaw-gm-practice-and-bump-day/
CATEGORIES:Event
END:VEVENT
END:VCALENDAR