BEGIN:VCALENDAR
VERSION:2.0
PRODID:-//Anderson, Indiana Speedway - ECPv6.15.20//NONSGML v1.0//EN
CALSCALE:GREGORIAN
METHOD:PUBLISH
X-ORIGINAL-URL:https://andersonspeedway.com
X-WR-CALDESC:Events for Anderson, Indiana Speedway
REFRESH-INTERVAL;VALUE=DURATION:PT1H
X-Robots-Tag:noindex
X-PUBLISHED-TTL:PT1H
BEGIN:VTIMEZONE
TZID:America/Indiana/Indianapolis
BEGIN:DAYLIGHT
TZOFFSETFROM:-0500
TZOFFSETTO:-0400
TZNAME:EDT
DTSTART:20180311T070000
END:DAYLIGHT
BEGIN:STANDARD
TZOFFSETFROM:-0400
TZOFFSETTO:-0500
TZNAME:EST
DTSTART:20181104T060000
END:STANDARD
BEGIN:DAYLIGHT
TZOFFSETFROM:-0500
TZOFFSETTO:-0400
TZNAME:EDT
DTSTART:20190310T070000
END:DAYLIGHT
BEGIN:STANDARD
TZOFFSETFROM:-0400
TZOFFSETTO:-0500
TZNAME:EST
DTSTART:20191103T060000
END:STANDARD
BEGIN:DAYLIGHT
TZOFFSETFROM:-0500
TZOFFSETTO:-0400
TZNAME:EDT
DTSTART:20200308T070000
END:DAYLIGHT
BEGIN:STANDARD
TZOFFSETFROM:-0400
TZOFFSETTO:-0500
TZNAME:EST
DTSTART:20201101T060000
END:STANDARD
END:VTIMEZONE
BEGIN:VEVENT
DTSTART;VALUE=DATE:20190523
DTEND;VALUE=DATE:20190524
DTSTAMP:20260419T083402
CREATED:20181024T154952Z
LAST-MODIFIED:20190304T215622Z
UID:7780-1558569600-1558655999@andersonspeedway.com
SUMMARY:Pay Less Little 500 presented by UAW Practice and Tin Plate Fine Foods Spirits Pole Day
DESCRIPTION:Thursday\, May 23\, 2019 \nPractice/Qualifying: Non-Wing Sprint Cars \nGENERAL ADMISSION: Free for fans to watch in the grandstands. Front Gate will be open. \nPIT PASS: 3 Day Pit Pass – $90\, Single Day – $25 \nAges 13 and under are not permitted to the pit area. Ages 14 to 17 will need to fill out a minor waiver form with parent/legal guardian at the pit office. \n\n\n\n\n\n\nEVENT SCHEDULE:  (PRINTABLE VERSION)\n\n\n9:00 AM\nPit Gates Open\n\n\n11:00 AM\nLittle 500 Driver’s Meeting\n\n\n11:30 AM\nLittle 500 Practice\n\n\n1:15 PM\nLittle 500 Practice Ends\n\n\n1:30 PM\nLittle 500 1st Round Qualifying Begins\n\n\n3:30 PM\nLittle 500 1st Round Qualifying Ends\n\n\n3:30 PM\nTop 15 Qualifers select pit # – Flag Stand
URL:https://andersonspeedway.com/event/pay-less-little-500-presented-by-uaw-gm-practice-and-pole-day/
CATEGORIES:Event
END:VEVENT
END:VCALENDAR