BEGIN:VCALENDAR
VERSION:2.0
PRODID:-//Anderson, Indiana Speedway - ECPv6.15.20//NONSGML v1.0//EN
CALSCALE:GREGORIAN
METHOD:PUBLISH
X-ORIGINAL-URL:https://andersonspeedway.com
X-WR-CALDESC:Events for Anderson, Indiana Speedway
REFRESH-INTERVAL;VALUE=DURATION:PT1H
X-Robots-Tag:noindex
X-PUBLISHED-TTL:PT1H
BEGIN:VTIMEZONE
TZID:America/Indiana/Indianapolis
BEGIN:DAYLIGHT
TZOFFSETFROM:-0500
TZOFFSETTO:-0400
TZNAME:EDT
DTSTART:20180311T070000
END:DAYLIGHT
BEGIN:STANDARD
TZOFFSETFROM:-0400
TZOFFSETTO:-0500
TZNAME:EST
DTSTART:20181104T060000
END:STANDARD
BEGIN:DAYLIGHT
TZOFFSETFROM:-0500
TZOFFSETTO:-0400
TZNAME:EDT
DTSTART:20190310T070000
END:DAYLIGHT
BEGIN:STANDARD
TZOFFSETFROM:-0400
TZOFFSETTO:-0500
TZNAME:EST
DTSTART:20191103T060000
END:STANDARD
BEGIN:DAYLIGHT
TZOFFSETFROM:-0500
TZOFFSETTO:-0400
TZNAME:EDT
DTSTART:20200308T070000
END:DAYLIGHT
BEGIN:STANDARD
TZOFFSETFROM:-0400
TZOFFSETTO:-0500
TZNAME:EST
DTSTART:20201101T060000
END:STANDARD
END:VTIMEZONE
BEGIN:VEVENT
DTSTART;VALUE=DATE:20190518
DTEND;VALUE=DATE:20190519
DTSTAMP:20260419T083515
CREATED:20190503T131702Z
LAST-MODIFIED:20190515T194359Z
UID:8573-1558137600-1558223999@andersonspeedway.com
SUMMARY:Byrider Spring Championships
DESCRIPTION:Saturday\, May 18\, 2019 \nRACING DIVISIONS: McGunegill Engine Performance Late Models\, PGG Enterprise ThunderCars\, Marcum Welding Front Wheel Drives\, Hart’s Auto Center Figure 8’s \nGENERAL ADMISSION: Adults – $12; Kids (6-12) $4\, 5 and under Free\nPIT PASS: Member Pit Pass – $26; Non-Member – $31 \nAges 13 and under are not permitted to the pit area. Ages 14 to 17 will need to fill out a minor waiver form with parent/legal guardian at the pit office. \n\n\n\n\n\n\nEVENT SCHEDULE:  (PRINTABLE VERSION)\n\n\n3:00 PM\nOpen Pit Gates\n\n\n4:00 PM\nRotating Practice\n\n\n\nLate Models\n\n\n\nStreet Stocks\n\n\n\nThunderCars\n\n\n\nMarcum Welding Front Wheel Drive\n\n\n\nFigure 8’s\n\n\n5:00pm\nOpen Front Gate\n\n\n5:30 PM\nQualifications\n\n\n\nLate Models\n\n\n\nThunderCars\n\n\n\nStreet Stocks\n\n\n\nMarcum Welding Front Wheel Drive\n\n\n7:00 PM\nDriver’s Meeting\n\n\n7:25 PM\nInvocation and National Anthem\n\n\n7:30 PM\nFeatures\n\n\n\nLate Models (40 Laps)\n\n\n\nThunderCars (35 Laps)\n\n\n\nMarcum Welding Front Wheel Drive (30 Laps)\n\n\n\nFigure 8’s (30 Laps)
URL:https://andersonspeedway.com/event/saturday-night-racing-65/
CATEGORIES:Event
END:VEVENT
END:VCALENDAR