BEGIN:VCALENDAR
VERSION:2.0
PRODID:-//Anderson, Indiana Speedway - ECPv6.15.20//NONSGML v1.0//EN
CALSCALE:GREGORIAN
METHOD:PUBLISH
X-WR-CALNAME:Anderson, Indiana Speedway
X-ORIGINAL-URL:https://andersonspeedway.com
X-WR-CALDESC:Events for Anderson, Indiana Speedway
REFRESH-INTERVAL;VALUE=DURATION:PT1H
X-Robots-Tag:noindex
X-PUBLISHED-TTL:PT1H
BEGIN:VTIMEZONE
TZID:America/Indiana/Indianapolis
BEGIN:DAYLIGHT
TZOFFSETFROM:-0500
TZOFFSETTO:-0400
TZNAME:EDT
DTSTART:20180311T070000
END:DAYLIGHT
BEGIN:STANDARD
TZOFFSETFROM:-0400
TZOFFSETTO:-0500
TZNAME:EST
DTSTART:20181104T060000
END:STANDARD
BEGIN:DAYLIGHT
TZOFFSETFROM:-0500
TZOFFSETTO:-0400
TZNAME:EDT
DTSTART:20190310T070000
END:DAYLIGHT
BEGIN:STANDARD
TZOFFSETFROM:-0400
TZOFFSETTO:-0500
TZNAME:EST
DTSTART:20191103T060000
END:STANDARD
BEGIN:DAYLIGHT
TZOFFSETFROM:-0500
TZOFFSETTO:-0400
TZNAME:EDT
DTSTART:20200308T070000
END:DAYLIGHT
BEGIN:STANDARD
TZOFFSETFROM:-0400
TZOFFSETTO:-0500
TZNAME:EST
DTSTART:20201101T060000
END:STANDARD
END:VTIMEZONE
BEGIN:VEVENT
DTSTART;VALUE=DATE:20190323
DTEND;VALUE=DATE:20190324
DTSTAMP:20260419T154937
CREATED:20181217T192806Z
LAST-MODIFIED:20190304T201439Z
UID:7993-1553299200-1553385599@andersonspeedway.com
SUMMARY:Open Practice - All Divisions
DESCRIPTION:Saturday\, March 23\, 2019 \nOPEN PRACTICE \nGENERAL ADMISSION: Fans can enter through the pit gate to watch practice for Free in the grandstands. \nPIT PASS: $18 per person \nAges 13 and under are not permitted to the pit area. Ages 14 to 17 will need to fill out a minor waiver form with parent/legal guardian at the pit office. \n\n\n\n\n\n\nEVENT SCHEDULE:  (PRINTABLE VERSION)\n\n\n1:00 PM\nOpen Pit Gates\n\n\n2:00 PM\nPractice Begins\n\n\n5:00 PM\nPractice Ends
URL:https://andersonspeedway.com/event/open-practice-all-divisions-18/
CATEGORIES:Event
END:VEVENT
END:VCALENDAR