BEGIN:VCALENDAR
VERSION:2.0
PRODID:-//Anderson, Indiana Speedway - ECPv6.15.20//NONSGML v1.0//EN
CALSCALE:GREGORIAN
METHOD:PUBLISH
X-WR-CALNAME:Anderson, Indiana Speedway
X-ORIGINAL-URL:https://andersonspeedway.com
X-WR-CALDESC:Events for Anderson, Indiana Speedway
REFRESH-INTERVAL;VALUE=DURATION:PT1H
X-Robots-Tag:noindex
X-PUBLISHED-TTL:PT1H
BEGIN:VTIMEZONE
TZID:America/Indiana/Indianapolis
BEGIN:DAYLIGHT
TZOFFSETFROM:-0500
TZOFFSETTO:-0400
TZNAME:EDT
DTSTART:20170312T070000
END:DAYLIGHT
BEGIN:STANDARD
TZOFFSETFROM:-0400
TZOFFSETTO:-0500
TZNAME:EST
DTSTART:20171105T060000
END:STANDARD
BEGIN:DAYLIGHT
TZOFFSETFROM:-0500
TZOFFSETTO:-0400
TZNAME:EDT
DTSTART:20180311T070000
END:DAYLIGHT
BEGIN:STANDARD
TZOFFSETFROM:-0400
TZOFFSETTO:-0500
TZNAME:EST
DTSTART:20181104T060000
END:STANDARD
BEGIN:DAYLIGHT
TZOFFSETFROM:-0500
TZOFFSETTO:-0400
TZNAME:EDT
DTSTART:20190310T070000
END:DAYLIGHT
BEGIN:STANDARD
TZOFFSETFROM:-0400
TZOFFSETTO:-0500
TZNAME:EST
DTSTART:20191103T060000
END:STANDARD
END:VTIMEZONE
BEGIN:VEVENT
DTSTART;VALUE=DATE:20181103
DTEND;VALUE=DATE:20181104
DTSTAMP:20260421T132427
CREATED:20171201T160922Z
LAST-MODIFIED:20180402T182559Z
UID:5935-1541203200-1541289599@andersonspeedway.com
SUMMARY:Turkey Bash
DESCRIPTION:Featuring: \n\nVORES Welding and Steel Street Stocks\nThunderCars\nMarcum Welding Front Wheel Drives\nThunder Roadsters\nPro Compacts\nFront Wheel Drive Figure 8’s\n\nAdmission:\n• Adults – $12\n• Kids (6-12) – $4\n• Five and Under Free \nPit Passes:\n• Member – $26\n• Non-Member – $31 \n\n\n\nEVENT SCHEDULE:  (PRINTABLE VERSION)\n\n\n10:30 AM\nOpen Pit Gates\n\n\n11:00 AM\nPractice Rotating- Front Gates Open\n\n\n\nVORES Welding and Steel Street Stocks\n\n\n\nThunder Roadsters\n\n\n\nMarcums Welding Front Wheel Drives\n\n\n\nPro Compacts\n\n\n\nThunderCars\n\n\n\nFront Wheel Drive Figure 8’s\n\n\n12:30 PM\nPractice Ends\n\n\n12:35 PM\nDrivers Meeting (All Divisions)\n\n\n12:55 PM\nInvocation and National Anthem\n\n\n1:00 PM\nFeatures\n\n\n\nVORES Welding and Steel Street Stocks (30 Laps)\n\n\n\nThunder Roadsters (25 Laps)\n\n\n\nMarcums Welding Front Wheel Drives (25 Laps)\n\n\n\nPro Compacts (25 Laps)\n\n\n\nThunderCars (30 Laps)\n\n\n\nFront Wheel Drive Figure 8’s (20 Laps)
URL:https://andersonspeedway.com/event/figure-8-madness-3/
CATEGORIES:Event
END:VEVENT
END:VCALENDAR