BEGIN:VCALENDAR
VERSION:2.0
PRODID:-//Anderson, Indiana Speedway - ECPv6.15.20//NONSGML v1.0//EN
CALSCALE:GREGORIAN
METHOD:PUBLISH
X-ORIGINAL-URL:https://andersonspeedway.com
X-WR-CALDESC:Events for Anderson, Indiana Speedway
REFRESH-INTERVAL;VALUE=DURATION:PT1H
X-Robots-Tag:noindex
X-PUBLISHED-TTL:PT1H
BEGIN:VTIMEZONE
TZID:America/Indiana/Indianapolis
BEGIN:DAYLIGHT
TZOFFSETFROM:-0500
TZOFFSETTO:-0400
TZNAME:EDT
DTSTART:20170312T070000
END:DAYLIGHT
BEGIN:STANDARD
TZOFFSETFROM:-0400
TZOFFSETTO:-0500
TZNAME:EST
DTSTART:20171105T060000
END:STANDARD
BEGIN:DAYLIGHT
TZOFFSETFROM:-0500
TZOFFSETTO:-0400
TZNAME:EDT
DTSTART:20180311T070000
END:DAYLIGHT
BEGIN:STANDARD
TZOFFSETFROM:-0400
TZOFFSETTO:-0500
TZNAME:EST
DTSTART:20181104T060000
END:STANDARD
BEGIN:DAYLIGHT
TZOFFSETFROM:-0500
TZOFFSETTO:-0400
TZNAME:EDT
DTSTART:20190310T070000
END:DAYLIGHT
BEGIN:STANDARD
TZOFFSETFROM:-0400
TZOFFSETTO:-0500
TZNAME:EST
DTSTART:20191103T060000
END:STANDARD
END:VTIMEZONE
BEGIN:VEVENT
DTSTART;VALUE=DATE:20181027
DTEND;VALUE=DATE:20181028
DTSTAMP:20260421T145124
CREATED:20181018T185804Z
LAST-MODIFIED:20181023T182520Z
UID:7724-1540598400-1540684799@andersonspeedway.com
SUMMARY:Tom Wood Stock Car Festival presented by Delmolino Plumbing and EDCO Welding & Hydraulics
DESCRIPTION:FEATURING:\nOutlaw Figure 8’s\nMcGunegill Engine Late Models\nVORES Welding and Steel Street Stocks\nHart’s Auto Center Figure 8’s\nThunder Roadsters\nThunderCars\nMarcum’s Welding Front Wheel Drives\nMidwest Champ Karts\nLegend\nFront Wheel Drive Figure 8’s\nPro Compacts\nIndy Faskarts \nAdmission:\n• Adults – $15\n• Kids (6-12) – $4\n• Five and Under Free \nPit Passes:\n• Member – $26\n• Non-Member – $31 \n\n\n\n\n\n\nEVENT SCHEDULE:  (PRINTABLE VERSION)\n\n\n10:00 PM\nOpen Pit Gates\n\n\n11:30 PM\nPractice – Rotating\n\n\n\nOutlaw Figure 8’s\n\n\n\nLate Models\n\n\n\nStreet Stocks\n\n\n\nIndy FasKarts\n\n\n\nMidwest Champ Karts\n\n\n\nThunder Roadsters\n\n\n\nMarcum Welding Front Wheel Drives & Pro Compacts\n\n\n\nThunderCars\n\n\n\nLegends\n\n\n\nFront Wheel Drive Figure 8’s\n\n\n\nHart’s Auto Center Figure 8’s\n\n\n2:00 PM\nQualifications\n\n\n\nOutlaw Figure 8’s\n\n\n\nLate Models\n\n\n\nStreet Stocks\n\n\n\nIndy FasKarts\n\n\n\nMidwest Champ Karts\n\n\n\nThunder Roadsters\n\n\n\nMarcum Welding Front Wheel Drives & Pro Compacts\n\n\n\nThunderCars\n\n\n\nLegends\n\n\n\nFront Wheel Drive Figure 8’s\n\n\n\nHart’s Auto Center Figure 8’s\n\n\n3:30 PM\nDriver’s Meeting\n\n\n3:58 PM\nInvocation and National Anthem\n\n\n4:00 PM\nFeatures\n\n\n\nLate Models (40 Laps)\n\n\n\nStreet Stocks (35 Laps)\n\n\n\nIndy FasKarts (25 Laps)\n\n\n\nMidwest Champ Karts (25 Laps)\n\n\n\nThunder Roadsters (30 Laps)\n\n\n\nMarcum Welding Front Wheel Drives (30 Laps)\n\n\n\nIntermission\n\n\n\nOutlaw Figure 8’s (50 Laps)\n\n\n\nThunderCars (30 Laps)\n\n\n\nLegends (30 Laps)\n\n\n\nPro Compacts (30 Laps)\n\n\n\nFront Wheel Drive Figure 8’s (20 Laps)\n\n\n\nHart’s Auto Center Figure 8’s (30 Laps)\n\n\n\n  \nRule Questions? Call Bill Noel (765) 620-2629 \nOutlaw Figure 8’s:\nPurse- 1. 1500 2. 750 3. 500 4. 350 5. 300 6. 250 7. 200 8. 195 9. 190 10. 185 11. 180 12-20. 175\nRules- Speedrome rules and Speedrome 8inch Wheel and Tires \nMcGunegill Engine Late Models:\nPurse- 1. 800 2. 400 3. 300 4. 250 5. 200 6. 190\n7. 180 8. 170 9. 160 10. 150 11. 150 12. 150\n13. 150 14. 150 15. 150 16. 150 17. 150 18. 150\n19. 150 20. 150 21. 150 22. 150 23. 150 24. 150\nRules- Click Here\nTires eligible to use- Hoosier D800 \nVORES Welding & Steel Street Stocks:\nPurse: 1. 500 2. 350 3. 250 4. 200 5. 175 6. 150\n7. 140 8. 130 9. 120 10. 100 11. 100 12. 90 13. 80 14-24 70\nRules- Click Here\nTires eligible to use- Hoosier Comanches\, Hoosier 970’s* (*if used\, must have 56% left side weight) \nThunderCars:\nPurse- 1. 325 2. 175 3. 150 4. 140 5. 130 6. 120\n7. 110 8. 100 9. 90 10. 80 11. 70 12. 60\n13. 50 14-24. 40\nRules- Click Here \nHart’s Auto Figure 8’s:\nPurse- 1. 350 2. 175 3. 150 4. 140 5. 130 6. 120\n7. 110 8. 100 9. 90 10. 80 11. 70 12. 60\n13 – 24. 50Rules- Click Here \nMarcum’s Welding Front Wheel Drives:\nPurse- 1. 100 2. 75 3. 60 4. 50 5. 40 6. 30\n7. 25 8. 20 9. 15 10-24. 10\nRules- Click Here \nFront Wheel Drive Figure 8’s:\nPurse- 1. 100 2. 75 3. 60 4. 50 5. 40 6. 30\n7. 25 8. 20 9. 15 10-24. 10\nRules – VORES Compact or Anderson FWD rules are permitted \nPro Compacts:\nPurse- 1. 100 2. 75 3. 60 4. 50 5. 40 6. 30\n7. 25 8. 20 9. 15 10-24. 10\nRules- VORES Compact Touring Series Rules \nLegends:\nPurse\nRules – INEX Rules Apply \nMidwest Champ Karts:\nRules- Sanctioned through the Midwest Champ Karts \nIndy FasKarts Karts:\nRules- Sanctioned through the Indy FasKarts
URL:https://andersonspeedway.com/event/tom-wood-stock-car-festival-presented-by-delmolino-plumbing/
CATEGORIES:Event
END:VEVENT
END:VCALENDAR