BEGIN:VCALENDAR
VERSION:2.0
PRODID:-//Anderson, Indiana Speedway - ECPv6.15.20//NONSGML v1.0//EN
CALSCALE:GREGORIAN
METHOD:PUBLISH
X-ORIGINAL-URL:https://andersonspeedway.com
X-WR-CALDESC:Events for Anderson, Indiana Speedway
REFRESH-INTERVAL;VALUE=DURATION:PT1H
X-Robots-Tag:noindex
X-PUBLISHED-TTL:PT1H
BEGIN:VTIMEZONE
TZID:America/Indiana/Indianapolis
BEGIN:DAYLIGHT
TZOFFSETFROM:-0500
TZOFFSETTO:-0400
TZNAME:EDT
DTSTART:20170312T070000
END:DAYLIGHT
BEGIN:STANDARD
TZOFFSETFROM:-0400
TZOFFSETTO:-0500
TZNAME:EST
DTSTART:20171105T060000
END:STANDARD
BEGIN:DAYLIGHT
TZOFFSETFROM:-0500
TZOFFSETTO:-0400
TZNAME:EDT
DTSTART:20180311T070000
END:DAYLIGHT
BEGIN:STANDARD
TZOFFSETFROM:-0400
TZOFFSETTO:-0500
TZNAME:EST
DTSTART:20181104T060000
END:STANDARD
BEGIN:DAYLIGHT
TZOFFSETFROM:-0500
TZOFFSETTO:-0400
TZNAME:EDT
DTSTART:20190310T070000
END:DAYLIGHT
BEGIN:STANDARD
TZOFFSETFROM:-0400
TZOFFSETTO:-0500
TZNAME:EST
DTSTART:20191103T060000
END:STANDARD
END:VTIMEZONE
BEGIN:VEVENT
DTSTART;VALUE=DATE:20180929
DTEND;VALUE=DATE:20180930
DTSTAMP:20260421T162319
CREATED:20171201T181835Z
LAST-MODIFIED:20180929T144642Z
UID:6032-1538179200-1538265599@andersonspeedway.com
SUMMARY:ThunderCar 100
DESCRIPTION:FEATURING: \n\nThunderCars\nMarcum’s Welding Front Wheel Drives\nHart’s Auto Center Figure 8’s\n\nAdmission:\n• Adults – $12\n• Kids (6-12) – $4\n• Five and Under Free \nPit Passes:\n• Member – $26\n• Non-Member – $31 \nThunderCar 100 Purse:\n1. 1000     9. 150\n2. 500     10. 100\n3. 400     11. 90\n4. 300     12. 80\n5. 250     13. 70\n6. 200     14. 60\n7. 175     15-24. 50 \nThunderCar Rules – Click Here \n\n\n\nEVENT SCHEDULE:  (PRINTABLE VERSION)\n\n\n4:00 PM\nOpen Pit Gates\n\n\n5:00 PM\nPractice Rotating- Front Gates Open\n\n\n\nHart’s Auto Center Figure 8’s\n\n\n\nMarcums Welding Front Wheel Drives\n\n\n\nThunderCars\n\n\n6:30 PM\nQualifications\n\n\n\nHart’s Auto Center Figure 8’s\n\n\n\nMarcums Welding Front Wheel Drives\n\n\n\nThunderCars\n\n\n7:30 PM\nDrivers Meeting (All Divisions)\n\n\n7:55 PM\nInvocation and National Anthem\n\n\n8:00 PM\nFeatures\n\n\n\nHart’s Auto Center Figure 8’s (30 Laps)\n\n\n\nMarcum Welding Front Wheel Drives (30 Laps)\n\n\n\nThunderCar (100 Laps)
URL:https://andersonspeedway.com/event/thundercar-100/
CATEGORIES:Event
END:VEVENT
END:VCALENDAR