BEGIN:VCALENDAR
VERSION:2.0
PRODID:-//Anderson, Indiana Speedway - ECPv6.15.20//NONSGML v1.0//EN
CALSCALE:GREGORIAN
METHOD:PUBLISH
X-ORIGINAL-URL:https://andersonspeedway.com
X-WR-CALDESC:Events for Anderson, Indiana Speedway
REFRESH-INTERVAL;VALUE=DURATION:PT1H
X-Robots-Tag:noindex
X-PUBLISHED-TTL:PT1H
BEGIN:VTIMEZONE
TZID:America/Indiana/Indianapolis
BEGIN:DAYLIGHT
TZOFFSETFROM:-0500
TZOFFSETTO:-0400
TZNAME:EDT
DTSTART:20170312T070000
END:DAYLIGHT
BEGIN:STANDARD
TZOFFSETFROM:-0400
TZOFFSETTO:-0500
TZNAME:EST
DTSTART:20171105T060000
END:STANDARD
BEGIN:DAYLIGHT
TZOFFSETFROM:-0500
TZOFFSETTO:-0400
TZNAME:EDT
DTSTART:20180311T070000
END:DAYLIGHT
BEGIN:STANDARD
TZOFFSETFROM:-0400
TZOFFSETTO:-0500
TZNAME:EST
DTSTART:20181104T060000
END:STANDARD
BEGIN:DAYLIGHT
TZOFFSETFROM:-0500
TZOFFSETTO:-0400
TZNAME:EDT
DTSTART:20190310T070000
END:DAYLIGHT
BEGIN:STANDARD
TZOFFSETFROM:-0400
TZOFFSETTO:-0500
TZNAME:EST
DTSTART:20191103T060000
END:STANDARD
END:VTIMEZONE
BEGIN:VEVENT
DTSTART;VALUE=DATE:20180922
DTEND;VALUE=DATE:20180923
DTSTAMP:20260421T161850
CREATED:20171201T182136Z
LAST-MODIFIED:20180402T180757Z
UID:6037-1537574400-1537660799@andersonspeedway.com
SUMMARY:Season Championships
DESCRIPTION:FEATURING: \n\nMcGunegill Engine Late Models\nVORES Welding and Steel Street Stocks\nThunder Cars\nThunder Roadsters\n\nAdmission:\n• Adults – $12\n• Kids (6-12) – $4\n• Five and Under Free \nPit Passes:\n• Member – $26\n• Non-Member – $31 \n\n\n\nEVENT SCHEDULE:  (PRINTABLE VERSION)\n\n\n4:00 PM\nOpen Pit Gates\n\n\n5:00 PM\nPractice Rotating- Front Gates Open\n\n\n\nLate Models\n\n\n\nVORES Welding and Steel Street Stocks\n\n\n\nThunder Roadsters\n\n\n\nThunderCars\n\n\n6:30 PM\nQualifications\n\n\n\nMcGunegill Engine Late Models\n\n\n\nVORES Welding and Steel Street Stocks\n\n\n\nThunder Roadsters\n\n\n\nThunderCars\n\n\n7:30 PM\nDrivers Meeting (All Divisions)\n\n\n7:55 PM\nInvocation and National Anthem\n\n\n8:00 PM\nHeats\n\n\n\nMcGunegill Engine Late Models (10 Laps)\n\n\n\nVORES Welding and Steel Street Stocks (10 Laps)\n\n\n\nThunder Roadsters (10 Laps)\n\n\n\nThunderCars (10 Laps)\n\n\n\nIntermission\n\n\n\nMcGunegill Engine Late Models (40 Laps)\n\n\n\nVORES Welding and Steel Street Stocks (35 Laps)\n\n\n\nThunder Roadsters (30 Laps)\n\n\n\nThunderCars (35 Laps)
URL:https://andersonspeedway.com/event/season-championships-6/
CATEGORIES:Event
END:VEVENT
END:VCALENDAR