BEGIN:VCALENDAR
VERSION:2.0
PRODID:-//Anderson, Indiana Speedway - ECPv6.15.20//NONSGML v1.0//EN
CALSCALE:GREGORIAN
METHOD:PUBLISH
X-WR-CALNAME:Anderson, Indiana Speedway
X-ORIGINAL-URL:https://andersonspeedway.com
X-WR-CALDESC:Events for Anderson, Indiana Speedway
REFRESH-INTERVAL;VALUE=DURATION:PT1H
X-Robots-Tag:noindex
X-PUBLISHED-TTL:PT1H
BEGIN:VTIMEZONE
TZID:America/Indiana/Indianapolis
BEGIN:DAYLIGHT
TZOFFSETFROM:-0500
TZOFFSETTO:-0400
TZNAME:EDT
DTSTART:20170312T070000
END:DAYLIGHT
BEGIN:STANDARD
TZOFFSETFROM:-0400
TZOFFSETTO:-0500
TZNAME:EST
DTSTART:20171105T060000
END:STANDARD
BEGIN:DAYLIGHT
TZOFFSETFROM:-0500
TZOFFSETTO:-0400
TZNAME:EDT
DTSTART:20180311T070000
END:DAYLIGHT
BEGIN:STANDARD
TZOFFSETFROM:-0400
TZOFFSETTO:-0500
TZNAME:EST
DTSTART:20181104T060000
END:STANDARD
BEGIN:DAYLIGHT
TZOFFSETFROM:-0500
TZOFFSETTO:-0400
TZNAME:EDT
DTSTART:20190310T070000
END:DAYLIGHT
BEGIN:STANDARD
TZOFFSETFROM:-0400
TZOFFSETTO:-0500
TZNAME:EST
DTSTART:20191103T060000
END:STANDARD
END:VTIMEZONE
BEGIN:VEVENT
DTSTART;VALUE=DATE:20180915
DTEND;VALUE=DATE:20180916
DTSTAMP:20260421T161740
CREATED:20171201T182431Z
LAST-MODIFIED:20180807T190245Z
UID:6046-1536969600-1537055999@andersonspeedway.com
SUMMARY:CRA Street Stocks & CRA Late Model Sportsman presented by Thompson Insurance & Cintas
DESCRIPTION:FEATURING: \n\nCRA Late Models\nCRA Street Stocks\nVores Compact Touring Series\nUAW Made in America Mel Kenyon Midgets – Parallax Power Supply 30\n\nAdmission:\n• Adults – $12\n• Kids (6-12) – $4\n• Five and Under Free \nPit Passes:\n• Member – $26\n• Non-Member – $31 \n\n\n\nEVENT SCHEDULE:  (PRINTABLE VERSION)\n\n\n3:30 PM\nOpen Pit Gates\n\n\n4:30 PM\nCRA Drivers Meeting\n\n\n5:00 PM\nPractice Rotating- Front Gates Open\n\n\n\nCRA Sportsman Late Models\n\n\n\nUSSA Mel Kenyon Midgets\n\n\n\nVORES Compact Touring Series\n\n\n\nCRA Street Stocks\n\n\n6:30 PM\nQualifications\n\n\n\nCRA Sportsman Late Models\n\n\n\nUSSA Mel Kenyon Midgets\n\n\n\nVORES Compact Touring Series\n\n\n\nCRA Street Stocks\n\n\n7:55 PM\nInvocation and National Anthem\n\n\n8:00 PM\nHeats\n\n\n\nUSSA Mel Kenyon Midgets (10 Laps)\n\n\n\nVORES Compact Touring Series (10 Laps)\n\n\n\nIntermisson\n\n\n\nCRA Sportsman Late Models (75 Laps)\n\n\n\nUSSA Mel Kenyon Midgets (Parallax Power Supply 30 Laps)\n\n\n\nVORES Compact Touring Series (30 Laps)\n\n\n\nCRA Street Stocks (75 Laps)
URL:https://andersonspeedway.com/event/saturday-night-racing-cra-street-stocks-cra-late-model-sportsman/
CATEGORIES:Event
END:VEVENT
END:VCALENDAR