BEGIN:VCALENDAR
VERSION:2.0
PRODID:-//Anderson, Indiana Speedway - ECPv6.15.20//NONSGML v1.0//EN
CALSCALE:GREGORIAN
METHOD:PUBLISH
X-ORIGINAL-URL:https://andersonspeedway.com
X-WR-CALDESC:Events for Anderson, Indiana Speedway
REFRESH-INTERVAL;VALUE=DURATION:PT1H
X-Robots-Tag:noindex
X-PUBLISHED-TTL:PT1H
BEGIN:VTIMEZONE
TZID:America/Indiana/Indianapolis
BEGIN:DAYLIGHT
TZOFFSETFROM:-0500
TZOFFSETTO:-0400
TZNAME:EDT
DTSTART:20170312T070000
END:DAYLIGHT
BEGIN:STANDARD
TZOFFSETFROM:-0400
TZOFFSETTO:-0500
TZNAME:EST
DTSTART:20171105T060000
END:STANDARD
BEGIN:DAYLIGHT
TZOFFSETFROM:-0500
TZOFFSETTO:-0400
TZNAME:EDT
DTSTART:20180311T070000
END:DAYLIGHT
BEGIN:STANDARD
TZOFFSETFROM:-0400
TZOFFSETTO:-0500
TZNAME:EST
DTSTART:20181104T060000
END:STANDARD
BEGIN:DAYLIGHT
TZOFFSETFROM:-0500
TZOFFSETTO:-0400
TZNAME:EDT
DTSTART:20190310T070000
END:DAYLIGHT
BEGIN:STANDARD
TZOFFSETFROM:-0400
TZOFFSETTO:-0500
TZNAME:EST
DTSTART:20191103T060000
END:STANDARD
END:VTIMEZONE
BEGIN:VEVENT
DTSTART;VALUE=DATE:20180811
DTEND;VALUE=DATE:20180812
DTSTAMP:20260421T174210
CREATED:20171201T181708Z
LAST-MODIFIED:20180809T145429Z
UID:6030-1533945600-1534031999@andersonspeedway.com
SUMMARY:Suzette's Bail Bonds Night at the Races presented by AERCO Heating and Cooling with Murat Shrine
DESCRIPTION:Featuring: \n\nMust See Racing Winged Sprints\nCSR Super Cups\nThunder Roadsters\nThunderCar\n7:30pm (Murat Shrine Parade)\n\nAdmission:\n• Adults – $15\n• Kids (6-12) – $4\n• Five and Under Free \nPit Passes:\n• Member – $26\n• Non-Member – $31 \n\n\n\nEVENT SCHEDULE:  (PRINTABLE VERSION)\n\n\n3:30 PM\nOpen Pit Gates\n\n\n5:00 PM\nPractice Rotating- Front Gates Open\n\n\n\nMust See Racing Winged Sprints\n\n\n\nThunder Roadsters\n\n\n\nCSR Super Cups\n\n\n\nThunderCars\n\n\n6:30 PM\nQualifications\n\n\n\nMust See Racing Winged Sprints\n\n\n\nThunder Roadsters\n\n\n\nCSR Super Cups\n\n\n\nThunderCars\n\n\n7:30 PM\nDrivers Meeting (All Divisions)/Shrine Parade\n\n\n7:55 PM\nInvocation and National Anthem\n\n\n8:00 PM\nHeats\n\n\n\nMust See Racing Winged Sprints (10 Laps)\n\n\n\nThunder Roadsters (10 Laps)\n\n\n\nCSR Super Cups (10 Laps)\n\n\n\nThunderCars (10 Laps)\n\n\n\nIntermission (Murat Shrine Parade)\n\n\n\nMust See Racing Winged Sprints (50 Laps)\n\n\n\nThunder Roadsters (25 Laps)\n\n\n\nCSR Super Cups (25 Laps)\n\n\n\nThunderCars (25 Laps)
URL:https://andersonspeedway.com/event/saturday-night-racing-presented-aerco-heating-cooling/
CATEGORIES:Event
END:VEVENT
END:VCALENDAR