BEGIN:VCALENDAR
VERSION:2.0
PRODID:-//Anderson, Indiana Speedway - ECPv6.15.20//NONSGML v1.0//EN
CALSCALE:GREGORIAN
METHOD:PUBLISH
X-WR-CALNAME:Anderson, Indiana Speedway
X-ORIGINAL-URL:https://andersonspeedway.com
X-WR-CALDESC:Events for Anderson, Indiana Speedway
REFRESH-INTERVAL;VALUE=DURATION:PT1H
X-Robots-Tag:noindex
X-PUBLISHED-TTL:PT1H
BEGIN:VTIMEZONE
TZID:America/Indiana/Indianapolis
BEGIN:DAYLIGHT
TZOFFSETFROM:-0500
TZOFFSETTO:-0400
TZNAME:EDT
DTSTART:20170312T070000
END:DAYLIGHT
BEGIN:STANDARD
TZOFFSETFROM:-0400
TZOFFSETTO:-0500
TZNAME:EST
DTSTART:20171105T060000
END:STANDARD
BEGIN:DAYLIGHT
TZOFFSETFROM:-0500
TZOFFSETTO:-0400
TZNAME:EDT
DTSTART:20180311T070000
END:DAYLIGHT
BEGIN:STANDARD
TZOFFSETFROM:-0400
TZOFFSETTO:-0500
TZNAME:EST
DTSTART:20181104T060000
END:STANDARD
BEGIN:DAYLIGHT
TZOFFSETFROM:-0500
TZOFFSETTO:-0400
TZNAME:EDT
DTSTART:20190310T070000
END:DAYLIGHT
BEGIN:STANDARD
TZOFFSETFROM:-0400
TZOFFSETTO:-0500
TZNAME:EST
DTSTART:20191103T060000
END:STANDARD
END:VTIMEZONE
BEGIN:VEVENT
DTSTART;VALUE=DATE:20180804
DTEND;VALUE=DATE:20180805
DTSTAMP:20260421T173952
CREATED:20171201T181608Z
LAST-MODIFIED:20180730T205704Z
UID:6026-1533340800-1533427199@andersonspeedway.com
SUMMARY:Saturday Night Racing
DESCRIPTION:Featuring \n\nMcGunegill Engine Late Models\nIndy Faskarts\nMarcum Welding Front Wheel Drives\nCRS Super Trucks\n\nAdmission:\n• Adults – $12\n• Kids (6-12) – $4\n• Five and Under Free \nPit Passes:\n• Member – $26\n• Non-Member – $31 \n\n\n\n\n\n\n\nEVENT SCHEDULE:  (PRINTABLE VERSION)\n\n\n4:00 PM\n\nOpen Pit Gates\n\n\n5:00 PM\n\nRotating Practice/Open Front Gates\n\n\n\n\nLate Models\n\n\n\n\nCRS Trucks\n\n\n\n\nIndy FasKarts\n\n\n\n\nMarcums Welding Front Wheel Drive\n\n\n6:30 PM\n\nQualifications\n\n\n\n\nLate Models\n\n\n\n\nCRS Trucks\n\n\n\n\nIndy FasKarts\n\n\n\n\nMarcums Welding Front Wheel Drive\n\n\n7:30 PM\n\nDriver’s Meeting\n\n\n7:55 PM\n\nInvocation and National Anthem\n\n\n8:00 PM\n\nHeats\n\n\n\n\nLate Models (10 Laps)\n\n\n\n\nIndy FasKarts (10 Laps)\n\n\n\n\nMarcum Welding Front Wheel Drives (10 Laps)\n\n\n\n\nINTERMISSION\n\n\n\n\nFeatures\n\n\n\n\nLate Models (30 Laps)\n\n\n\n\nCRS Trucks (50 Laps)\n\n\n\n\nIndy FasKarts (25 Laps)\n\n\n\n\nMarcums Welding Front Wheel Drives (25 Laps)
URL:https://andersonspeedway.com/event/saturday-night-racing-59/
CATEGORIES:Event
END:VEVENT
END:VCALENDAR