BEGIN:VCALENDAR
VERSION:2.0
PRODID:-//Anderson, Indiana Speedway - ECPv6.15.20//NONSGML v1.0//EN
CALSCALE:GREGORIAN
METHOD:PUBLISH
X-WR-CALNAME:Anderson, Indiana Speedway
X-ORIGINAL-URL:https://andersonspeedway.com
X-WR-CALDESC:Events for Anderson, Indiana Speedway
REFRESH-INTERVAL;VALUE=DURATION:PT1H
X-Robots-Tag:noindex
X-PUBLISHED-TTL:PT1H
BEGIN:VTIMEZONE
TZID:America/Indiana/Indianapolis
BEGIN:DAYLIGHT
TZOFFSETFROM:-0500
TZOFFSETTO:-0400
TZNAME:EDT
DTSTART:20170312T070000
END:DAYLIGHT
BEGIN:STANDARD
TZOFFSETFROM:-0400
TZOFFSETTO:-0500
TZNAME:EST
DTSTART:20171105T060000
END:STANDARD
BEGIN:DAYLIGHT
TZOFFSETFROM:-0500
TZOFFSETTO:-0400
TZNAME:EDT
DTSTART:20180311T070000
END:DAYLIGHT
BEGIN:STANDARD
TZOFFSETFROM:-0400
TZOFFSETTO:-0500
TZNAME:EST
DTSTART:20181104T060000
END:STANDARD
BEGIN:DAYLIGHT
TZOFFSETFROM:-0500
TZOFFSETTO:-0400
TZNAME:EDT
DTSTART:20190310T070000
END:DAYLIGHT
BEGIN:STANDARD
TZOFFSETFROM:-0400
TZOFFSETTO:-0500
TZNAME:EST
DTSTART:20191103T060000
END:STANDARD
END:VTIMEZONE
BEGIN:VEVENT
DTSTART;VALUE=DATE:20180802
DTEND;VALUE=DATE:20180803
DTSTAMP:20260421T174621
CREATED:20171201T181514Z
LAST-MODIFIED:20180731T151000Z
UID:6024-1533168000-1533254399@andersonspeedway.com
SUMMARY:UAW Night at the Races featuring Thursday Night Sprints presented by Speedway Indoor Karting
DESCRIPTION:Featuring \n\nNon-Wing Anderson Sprints (125 Laps)\nLegends (25 Laps)\nK&M Tool and Die Mel Kenyon Midgets (Parallax Power Supply 30)\n\nAdmission:\n• Adults – $15\n• Kids (6-12) – $4\n• Five and Under Free \nPit Passes:\n• Member – $26\n• Non-Member – $31 \n\n\n\nEVENT SCHEDULE:  (PRINTABLE VERSION)\n\n\n3:00 PM\nOpen Pit Gates\n\n\n4:00 PM\nRotating Practice- Front Gate Opens\n\n\n\nNon Wing Sprints\n\n\n\nMel Kenyon Midgets\n\n\n\nLegends\n\n\n\n\n\n\n5:30 PM\nQualifications\n\n\n\nNon Wing Sprints\n\n\n\nMel Kenyon Midgets\n\n\n\nLegends\n\n\n6:55 PM\nInvocation and National Anthem\n\n\n7:00 PM\nHeats\n\n\n\nMel Kenyon Midgets (10 Laps)\n\n\n\nLegends (10 Laps)\n\n\n\nFeatures\n\n\n\nNon Wing Sprints (125 Laps)\n\n\n\nMel Kenyon Midgets (30 Laps)\n\n\n\nLegends (25 Laps)\n\n\n\n  \nEntry List: Click Here \nPurse – Thursday Night Sprints\n1. $3000       12. $450\n2. $1500       13. $450\n3. $750         14. $450\n4. $700         15. $450\n5. $650         16. $450\n6. $600         17. $450\n7. $575         18. $450\n8. $550         19. $450\n9. $525         20. $450\n10. $500       21. $450\n11. $475       22. $450 \nRace Information: \n22 Sprint Cars will start the A-Main \nLast chance race will be contested if needed \nFeature will be 125 laps \nFeature will start heads up\, no inversion \nSingle file re-starts \nPitting will take place on the outside of the track \nAll laps count (yellow flags will stop being counted after 4 laps) \nOnly green flag laps will count during the final 5 laps
URL:https://andersonspeedway.com/event/thursday-night-sprint-car-action-2/
CATEGORIES:Event
END:VEVENT
END:VCALENDAR