BEGIN:VCALENDAR
VERSION:2.0
PRODID:-//Anderson, Indiana Speedway - ECPv6.15.20//NONSGML v1.0//EN
CALSCALE:GREGORIAN
METHOD:PUBLISH
X-WR-CALNAME:Anderson, Indiana Speedway
X-ORIGINAL-URL:https://andersonspeedway.com
X-WR-CALDESC:Events for Anderson, Indiana Speedway
REFRESH-INTERVAL;VALUE=DURATION:PT1H
X-Robots-Tag:noindex
X-PUBLISHED-TTL:PT1H
BEGIN:VTIMEZONE
TZID:America/Indiana/Indianapolis
BEGIN:DAYLIGHT
TZOFFSETFROM:-0500
TZOFFSETTO:-0400
TZNAME:EDT
DTSTART:20170312T070000
END:DAYLIGHT
BEGIN:STANDARD
TZOFFSETFROM:-0400
TZOFFSETTO:-0500
TZNAME:EST
DTSTART:20171105T060000
END:STANDARD
BEGIN:DAYLIGHT
TZOFFSETFROM:-0500
TZOFFSETTO:-0400
TZNAME:EDT
DTSTART:20180311T070000
END:DAYLIGHT
BEGIN:STANDARD
TZOFFSETFROM:-0400
TZOFFSETTO:-0500
TZNAME:EST
DTSTART:20181104T060000
END:STANDARD
BEGIN:DAYLIGHT
TZOFFSETFROM:-0500
TZOFFSETTO:-0400
TZNAME:EDT
DTSTART:20190310T070000
END:DAYLIGHT
BEGIN:STANDARD
TZOFFSETFROM:-0400
TZOFFSETTO:-0500
TZNAME:EST
DTSTART:20191103T060000
END:STANDARD
END:VTIMEZONE
BEGIN:VEVENT
DTSTART;VALUE=DATE:20180728
DTEND;VALUE=DATE:20180729
DTSTAMP:20260421T190821
CREATED:20171201T181408Z
LAST-MODIFIED:20180406T193731Z
UID:6021-1532736000-1532822399@andersonspeedway.com
SUMMARY:Edgewater Woods Alzheimer's Awareness Night 69th Annual National Crown
DESCRIPTION:Featuring: \n\nHart’s Auto Center Figure 8’s\nCRA Late Models Sportsman\nMarcum’s Welding Front Wheel Drives\nCSR Super Cups\n\nAdmission:\n• Adults – $12\n• Kids (6-12) – $4\n• Five and Under Free \nPit Passes:\n• Member – $26\n• Non-Member – $31 \nPurse: National Crown \n1. $1500   11. $120\n2. $750     12. $110\n3. $500     13. $100\n4. $400     14. $100\n5. $300     15. $100\n6. $200     16. $100\n7. $175     17. $100\n8. $150     18. $100\n9. $140     19. $100\n10. $130   20. $100 \n\n\n\n\n\n\nEVENT SCHEDULE:  (PRINTABLE VERSION)\n\n\n4:00 PM\nOpen Pit Gates\n\n\n5:00 PM\nRotating Practice\n\n\n\nCRA Late Models\n\n\n\nCSR Mini Cups\n\n\n\nMarcum’s Welding Front Wheel Drives\n\n\n\nHart’s Auto Center Figure 8’s\n\n\n6:30 PM\nQualifications\n\n\n\nCRA Late Models\n\n\n\nCSR Mini Cups\n\n\n\nMarcum’s Welding Front Wheel Drives\n\n\n\nHarts Auto Figure 8’s\n\n\n7:30 PM\nDriver’s Meeting\n\n\n7:55 PM\nInvocation and National Anthem\n\n\n8:00 PM\nHeats\n\n\n\nCSR Mini Cups\n\n\n\nMarcum’s Welding Front Wheel Drives\n\n\n\nINTERMISSION\n\n\n\nFeatures\n\n\n\nCRA Late Models (75 Laps)\n\n\n\nCSR Mini Cups (25 Laps)\n\n\n\nMarcum’s Welding Front Wheel Drives (25 Laps)\n\n\n\nNational Crown Hart’s Auto Figure 8’s (50 Laps)
URL:https://andersonspeedway.com/event/edgewater-woods-alzheimers-awareness-night-69th-annual-national-crown/
CATEGORIES:Event
END:VEVENT
END:VCALENDAR