BEGIN:VCALENDAR
VERSION:2.0
PRODID:-//Anderson, Indiana Speedway - ECPv6.15.20//NONSGML v1.0//EN
CALSCALE:GREGORIAN
METHOD:PUBLISH
X-WR-CALNAME:Anderson, Indiana Speedway
X-ORIGINAL-URL:https://andersonspeedway.com
X-WR-CALDESC:Events for Anderson, Indiana Speedway
REFRESH-INTERVAL;VALUE=DURATION:PT1H
X-Robots-Tag:noindex
X-PUBLISHED-TTL:PT1H
BEGIN:VTIMEZONE
TZID:America/Indiana/Indianapolis
BEGIN:DAYLIGHT
TZOFFSETFROM:-0500
TZOFFSETTO:-0400
TZNAME:EDT
DTSTART:20170312T070000
END:DAYLIGHT
BEGIN:STANDARD
TZOFFSETFROM:-0400
TZOFFSETTO:-0500
TZNAME:EST
DTSTART:20171105T060000
END:STANDARD
BEGIN:DAYLIGHT
TZOFFSETFROM:-0500
TZOFFSETTO:-0400
TZNAME:EDT
DTSTART:20180311T070000
END:DAYLIGHT
BEGIN:STANDARD
TZOFFSETFROM:-0400
TZOFFSETTO:-0500
TZNAME:EST
DTSTART:20181104T060000
END:STANDARD
BEGIN:DAYLIGHT
TZOFFSETFROM:-0500
TZOFFSETTO:-0400
TZNAME:EDT
DTSTART:20190310T070000
END:DAYLIGHT
BEGIN:STANDARD
TZOFFSETFROM:-0400
TZOFFSETTO:-0500
TZNAME:EST
DTSTART:20191103T060000
END:STANDARD
END:VTIMEZONE
BEGIN:VEVENT
DTSTART;VALUE=DATE:20180721
DTEND;VALUE=DATE:20180722
DTSTAMP:20260421T190806
CREATED:20171201T181241Z
LAST-MODIFIED:20180402T151051Z
UID:6018-1532131200-1532217599@andersonspeedway.com
SUMMARY:Saturday Night Racing
DESCRIPTION:Featuring \n\nVORES Welding & Steel Street Stocks\nHart’s Auto Center Figure 8’s\nMarcum Welding Front Wheel Drives\nMidwest Champ Karts\n\nAdmission:\n• Adults – $12\n• Kids (6-12) – $4\n• Five and Under Free \nPit Passes:\n• Member – $26\n• Non-Member – $31 \nPurse: Marcums Welding Front Wheel Drives\n1. $500      13. $50\n2. $300      14. $40\n3. $200      15. $30\n4. $150      16. $30\n5. $125      17. $30\n6. $100      18. $30\n7. $90        19. $30\n8. $80        20. $30\n9. $70        21. $30\n10. $60      22. $30\n11. $50      23. $30\n12. $40      24. $30 \n\n\n\nEVENT SCHEDULE:  (PRINTABLE VERSION)\n\n\n4:00 PM\nOpen Pit Gates\n\n\n5:00 PM\nRotating Practice- Front Gate Opens\n\n\n\nVORES Welding & Steel Street Stocks\n\n\n\nMidwest Champ Carts\n\n\n\nMarcum Welding Front Wheel Drives\n\n\n\nHart’s Auto Center Figure 8’s\n\n\n6:30 PM\nQualifications\n\n\n\nVORES Welding & Steel Street Stocks\n\n\n\nMidwest Champ Carts\n\n\n\nMarcum Welding Front Wheel Drives\n\n\n\nHarts Auto Center Figure 8’s\n\n\n7:30 PM\nDrivers Meeting (All Divisions)\n\n\n7:55 PM\nInvocation and National Anthem\n\n\n8:00 PM\nHeats\n\n\n\nVORES Welding & Steel Street Stocks (10 Laps)\n\n\n\nMidwest Champ Carts (10 Laps)\n\n\n\nHart’s Auto Center Figure 8’s (10 Laps)\n\n\n\nFeatures\n\n\n\nVORES Welding & Steel Street Stocks (30 Laps)\n\n\n\nMidwest Champ Carts (25 Laps)\n\n\n\nMarcum Welding Front Wheel Drives (50 Laps)\n\n\n\nHart’s Auto Center Figure 8’s (25 Laps)
URL:https://andersonspeedway.com/event/saturday-night-racing-58/
CATEGORIES:Event
END:VEVENT
END:VCALENDAR