BEGIN:VCALENDAR
VERSION:2.0
PRODID:-//Anderson, Indiana Speedway - ECPv6.15.20//NONSGML v1.0//EN
CALSCALE:GREGORIAN
METHOD:PUBLISH
X-WR-CALNAME:Anderson, Indiana Speedway
X-ORIGINAL-URL:https://andersonspeedway.com
X-WR-CALDESC:Events for Anderson, Indiana Speedway
REFRESH-INTERVAL;VALUE=DURATION:PT1H
X-Robots-Tag:noindex
X-PUBLISHED-TTL:PT1H
BEGIN:VTIMEZONE
TZID:America/Indiana/Indianapolis
BEGIN:DAYLIGHT
TZOFFSETFROM:-0500
TZOFFSETTO:-0400
TZNAME:EDT
DTSTART:20170312T070000
END:DAYLIGHT
BEGIN:STANDARD
TZOFFSETFROM:-0400
TZOFFSETTO:-0500
TZNAME:EST
DTSTART:20171105T060000
END:STANDARD
BEGIN:DAYLIGHT
TZOFFSETFROM:-0500
TZOFFSETTO:-0400
TZNAME:EDT
DTSTART:20180311T070000
END:DAYLIGHT
BEGIN:STANDARD
TZOFFSETFROM:-0400
TZOFFSETTO:-0500
TZNAME:EST
DTSTART:20181104T060000
END:STANDARD
BEGIN:DAYLIGHT
TZOFFSETFROM:-0500
TZOFFSETTO:-0400
TZNAME:EDT
DTSTART:20190310T070000
END:DAYLIGHT
BEGIN:STANDARD
TZOFFSETFROM:-0400
TZOFFSETTO:-0500
TZNAME:EST
DTSTART:20191103T060000
END:STANDARD
END:VTIMEZONE
BEGIN:VEVENT
DTSTART;VALUE=DATE:20180716
DTEND;VALUE=DATE:20180717
DTSTAMP:20260421T190849
CREATED:20171201T181136Z
LAST-MODIFIED:20180713T171732Z
UID:6016-1531699200-1531785599@andersonspeedway.com
SUMMARY:Parallax Power Supply Redbud 400 presented by Mitch Smith Auto Service and Perfecto
DESCRIPTION:Featuring: \n\nARCA/CRA Super Series Late Models (400 Laps)\n\nAdmission:\n• Adults – $25\n• Kids $10 \nPit Passes:\n• Race Day – $35 \nPay-Per-View: Click Here \nEntry List: Click Here \n\n\n\nEVENT SCHEDULE:  (PRINTABLE VERSION)\n\n\n11:00 AM\nOpen Pit Gates\n\n\n12:30 AM\nDriver’s Meeting – ARCA/CRA\n\n\n1:30 PM\nPractice – ARCA/CRA Late Models\n\n\n3:30 PM\nPractice Ends\n\n\n4:45 PM\nQualifying – ARCA/CRA Late Models\n\n\n5:45 PM\nCars Gridded\n\n\n6:00 PM\nAutograph Session\n\n\n7:00 PM\nPre Race Ceremonies\n\n\n7:30 PM\nParallax Power Supply Redbud 400 Green Flag
URL:https://andersonspeedway.com/event/redbud-400-2/
CATEGORIES:Event
END:VEVENT
END:VCALENDAR