BEGIN:VCALENDAR
VERSION:2.0
PRODID:-//Anderson, Indiana Speedway - ECPv6.15.20//NONSGML v1.0//EN
CALSCALE:GREGORIAN
METHOD:PUBLISH
X-ORIGINAL-URL:https://andersonspeedway.com
X-WR-CALDESC:Events for Anderson, Indiana Speedway
REFRESH-INTERVAL;VALUE=DURATION:PT1H
X-Robots-Tag:noindex
X-PUBLISHED-TTL:PT1H
BEGIN:VTIMEZONE
TZID:America/Indiana/Indianapolis
BEGIN:DAYLIGHT
TZOFFSETFROM:-0500
TZOFFSETTO:-0400
TZNAME:EDT
DTSTART:20170312T070000
END:DAYLIGHT
BEGIN:STANDARD
TZOFFSETFROM:-0400
TZOFFSETTO:-0500
TZNAME:EST
DTSTART:20171105T060000
END:STANDARD
BEGIN:DAYLIGHT
TZOFFSETFROM:-0500
TZOFFSETTO:-0400
TZNAME:EDT
DTSTART:20180311T070000
END:DAYLIGHT
BEGIN:STANDARD
TZOFFSETFROM:-0400
TZOFFSETTO:-0500
TZNAME:EST
DTSTART:20181104T060000
END:STANDARD
BEGIN:DAYLIGHT
TZOFFSETFROM:-0500
TZOFFSETTO:-0400
TZNAME:EDT
DTSTART:20190310T070000
END:DAYLIGHT
BEGIN:STANDARD
TZOFFSETFROM:-0400
TZOFFSETTO:-0500
TZNAME:EST
DTSTART:20191103T060000
END:STANDARD
END:VTIMEZONE
BEGIN:VEVENT
DTSTART;VALUE=DATE:20180714
DTEND;VALUE=DATE:20180715
DTSTAMP:20260421T191015
CREATED:20171201T181034Z
LAST-MODIFIED:20180706T153143Z
UID:6013-1531526400-1531612799@andersonspeedway.com
SUMMARY:CRA Late Model Sportsman 100
DESCRIPTION:Featuring: \n\nCRA Sportsman 100\nLegends\nThunder Roadsters\n\nAdmission:\n• Adults – $12\n• Kids (6-12) – $4\n• Five and Under Free \nPit Passes:\n• Member – $26\n• Non-Member – $31 \n\n\n\nEVENT SCHEDULE:  (PRINTABLE VERSION)\n\n\n3:00 PM\nOpen Pit Gates\n\n\n4:30 PM\nCRA Drivers Meeting\n\n\n5:00 PM\nRotating Practice- Front Gate Opens\n\n\n\nLegends\n\n\n\nCRA Sportsman Late Models\n\n\n\nThunder Roadsters\n\n\n6:30 PM\nQualifications\n\n\n\nLegends\n\n\n\nCRA Sportsman Late Models\n\n\n\nThunder Roadsters\n\n\n7:30 PM\nDrivers Meeting (Anderson Divisions)\n\n\n7:55 PM\nInvocation and National Anthem\n\n\n8:00 PM\nHeats\n\n\n\nLegends (10 Laps)\n\n\n\nThunder Roadsters (10 Laps)\n\n\n\nFeatures\n\n\n\nLegends (25 Laps)\n\n\n\nCRA Sportsman Late Models (100 Laps)\n\n\n\nThunder Roadsters (25 Laps)
URL:https://andersonspeedway.com/event/saturday-night-racing-57/
CATEGORIES:Event
END:VEVENT
END:VCALENDAR