BEGIN:VCALENDAR
VERSION:2.0
PRODID:-//Anderson, Indiana Speedway - ECPv6.15.20//NONSGML v1.0//EN
CALSCALE:GREGORIAN
METHOD:PUBLISH
X-WR-CALNAME:Anderson, Indiana Speedway
X-ORIGINAL-URL:https://andersonspeedway.com
X-WR-CALDESC:Events for Anderson, Indiana Speedway
REFRESH-INTERVAL;VALUE=DURATION:PT1H
X-Robots-Tag:noindex
X-PUBLISHED-TTL:PT1H
BEGIN:VTIMEZONE
TZID:America/Indiana/Indianapolis
BEGIN:DAYLIGHT
TZOFFSETFROM:-0500
TZOFFSETTO:-0400
TZNAME:EDT
DTSTART:20170312T070000
END:DAYLIGHT
BEGIN:STANDARD
TZOFFSETFROM:-0400
TZOFFSETTO:-0500
TZNAME:EST
DTSTART:20171105T060000
END:STANDARD
BEGIN:DAYLIGHT
TZOFFSETFROM:-0500
TZOFFSETTO:-0400
TZNAME:EDT
DTSTART:20180311T070000
END:DAYLIGHT
BEGIN:STANDARD
TZOFFSETFROM:-0400
TZOFFSETTO:-0500
TZNAME:EST
DTSTART:20181104T060000
END:STANDARD
BEGIN:DAYLIGHT
TZOFFSETFROM:-0500
TZOFFSETTO:-0400
TZNAME:EDT
DTSTART:20190310T070000
END:DAYLIGHT
BEGIN:STANDARD
TZOFFSETFROM:-0400
TZOFFSETTO:-0500
TZNAME:EST
DTSTART:20191103T060000
END:STANDARD
END:VTIMEZONE
BEGIN:VEVENT
DTSTART;VALUE=DATE:20180704
DTEND;VALUE=DATE:20180705
DTSTAMP:20260421T190659
CREATED:20171201T174959Z
LAST-MODIFIED:20180702T151012Z
UID:5979-1530662400-1530748799@andersonspeedway.com
SUMMARY:4th of July Figure 8 Madness presented by Best Way Disposal and Anderson Madison County Visitors Bureau
DESCRIPTION:Featuring:  \n\nOutlaw Figure 8’s\nHart’s Auto Center Figure 8’s\nSchool Bus Figure 8’s\nFront Wheel Drive Figure 8’s\nTrailer Race\nFireworks\n\nAdmission:\n• Adults – $15\n• Kids (6-12) – $4\n• Five and Under Free \nPit Passes:\n• Member – $26\n• Non-Member – $31 \nPurse: Outlaw Figure 8’s \nSpeedrome rules and 8inch tires\n1. $1500   11. $180\n2. $750     12. $175\n3. $500     13. $175\n4. $350     14. $175\n5. $300     15. $175\n6. $250     16. $175\n7. $200     17. $175\n8. $195     18. $175\n9. $190     19. $175\n10. $185   20. $175 \nFWD Figure 8 Rules: \nAnderson FWD or VORES Compact rules both apply. Most important part is safety equipment. \n\n\n\nEVENT SCHEDULE:  (PRINTABLE VERSION)\n\n\n3:00 PM\nOpen Pit Gates\n\n\n4:00 PM\nRotating Practice- Front Gate Opens\n\n\n\nOutlaw Figure 8’s\n\n\n\nFWD Figure 8’s\n\n\n\nHart’s Auto Center Figure 8’s\n\n\n5:30 PM\nQualifications\n\n\n\nOutlaw Figure 8’s\n\n\n\nFWD Figure 8’s\n\n\n\nHart’s Auto Center Figure 8’s\n\n\n6:30 PM\nDrivers Meeting\n\n\n6:55 PM\nInvocation and National Anthem\n\n\n7:00 PM\nFeatures\n\n\n\nOutlaw Figure 8’s (50 Laps)\n\n\n\nFWD Figure 8’s (15 Laps)\n\n\n\nHart’s Auto Center Figure 8’s (25 Laps)\n\n\n\nTrailer Figure 8’s (10 Laps)
URL:https://andersonspeedway.com/event/figure-8-madness-4/
CATEGORIES:Event
END:VEVENT
END:VCALENDAR