BEGIN:VCALENDAR
VERSION:2.0
PRODID:-//Anderson, Indiana Speedway - ECPv6.15.20//NONSGML v1.0//EN
CALSCALE:GREGORIAN
METHOD:PUBLISH
X-ORIGINAL-URL:https://andersonspeedway.com
X-WR-CALDESC:Events for Anderson, Indiana Speedway
REFRESH-INTERVAL;VALUE=DURATION:PT1H
X-Robots-Tag:noindex
X-PUBLISHED-TTL:PT1H
BEGIN:VTIMEZONE
TZID:America/Indiana/Indianapolis
BEGIN:DAYLIGHT
TZOFFSETFROM:-0500
TZOFFSETTO:-0400
TZNAME:EDT
DTSTART:20150308T070000
END:DAYLIGHT
BEGIN:STANDARD
TZOFFSETFROM:-0400
TZOFFSETTO:-0500
TZNAME:EST
DTSTART:20151101T060000
END:STANDARD
BEGIN:DAYLIGHT
TZOFFSETFROM:-0500
TZOFFSETTO:-0400
TZNAME:EDT
DTSTART:20160313T070000
END:DAYLIGHT
BEGIN:STANDARD
TZOFFSETFROM:-0400
TZOFFSETTO:-0500
TZNAME:EST
DTSTART:20161106T060000
END:STANDARD
BEGIN:DAYLIGHT
TZOFFSETFROM:-0500
TZOFFSETTO:-0400
TZNAME:EDT
DTSTART:20170312T070000
END:DAYLIGHT
BEGIN:STANDARD
TZOFFSETFROM:-0400
TZOFFSETTO:-0500
TZNAME:EST
DTSTART:20171105T060000
END:STANDARD
END:VTIMEZONE
BEGIN:VEVENT
DTSTART;VALUE=DATE:20161001
DTEND;VALUE=DATE:20161002
DTSTAMP:20260423T032929
CREATED:20151204T150407Z
LAST-MODIFIED:20160829T200637Z
UID:3059-1475280000-1475366399@andersonspeedway.com
SUMMARY:Ivy Tech Season Championships presented by Indy Fuel
DESCRIPTION:FEATURING: \n\nMcGunegill Engine Late Models\nThunder Roadsters\nLegends\nStreet Stocks\n\nTickets: \n\nAdults – $12\nKids (6-12) – $4\nFive and Under Free\n\n\n\n\nEVENT SCHEDULE:  (PRINTABLE VERSION)\n\n\n3:00 PM\nOpen Pit Gates\n\n\n4:00 PM\nRotating Practice\n\n\n\nMcGunegill Engine Late Models\n\n\n\nLegends\n\n\n\nStreet Stocks\n\n\n\nThunder Roadsters\n\n\n5:30 PM\nQualifications\n\n\n\nMcGunegill Engine Late Models\n\n\n\nLegends\n\n\n\nStreet Stocks\n\n\n\nThunder Roadsters\n\n\n6:30 PM\nDriver’s Meeting- (All Divisions)\n\n\n6:58 PM\nInvocation and National Anthem\n\n\n7:00 PM\nHeats\n\n\n\nMcGunegill Engine Late Models (10 Laps)\n\n\n\nLegends (10 Laps)\n\n\n\nStreet Stocks (10 Laps)\n\n\n\nThunder Roadsters (10 Laps)\n\n\n\nIntermission (track inspection) Brief\n\n\n\nFeatures\n\n\n\nMcGunegill Engine Late Models (40 Laps)\n\n\n\nLegends (25 Laps)\n\n\n\nStreet Stocks (30 Laps)\n\n\n\nThunder Roadsters (30 Laps)
URL:https://andersonspeedway.com/event/season-championships-4/
CATEGORIES:Event
END:VEVENT
END:VCALENDAR