BEGIN:VCALENDAR
VERSION:2.0
PRODID:-//Anderson, Indiana Speedway - ECPv6.15.20//NONSGML v1.0//EN
CALSCALE:GREGORIAN
METHOD:PUBLISH
X-WR-CALNAME:Anderson, Indiana Speedway
X-ORIGINAL-URL:https://andersonspeedway.com
X-WR-CALDESC:Events for Anderson, Indiana Speedway
REFRESH-INTERVAL;VALUE=DURATION:PT1H
X-Robots-Tag:noindex
X-PUBLISHED-TTL:PT1H
BEGIN:VTIMEZONE
TZID:America/Indiana/Indianapolis
BEGIN:DAYLIGHT
TZOFFSETFROM:-0500
TZOFFSETTO:-0400
TZNAME:EDT
DTSTART:20150308T070000
END:DAYLIGHT
BEGIN:STANDARD
TZOFFSETFROM:-0400
TZOFFSETTO:-0500
TZNAME:EST
DTSTART:20151101T060000
END:STANDARD
BEGIN:DAYLIGHT
TZOFFSETFROM:-0500
TZOFFSETTO:-0400
TZNAME:EDT
DTSTART:20160313T070000
END:DAYLIGHT
BEGIN:STANDARD
TZOFFSETFROM:-0400
TZOFFSETTO:-0500
TZNAME:EST
DTSTART:20161106T060000
END:STANDARD
BEGIN:DAYLIGHT
TZOFFSETFROM:-0500
TZOFFSETTO:-0400
TZNAME:EDT
DTSTART:20170312T070000
END:DAYLIGHT
BEGIN:STANDARD
TZOFFSETFROM:-0400
TZOFFSETTO:-0500
TZNAME:EST
DTSTART:20171105T060000
END:STANDARD
END:VTIMEZONE
BEGIN:VEVENT
DTSTART;VALUE=DATE:20160924
DTEND;VALUE=DATE:20160925
DTSTAMP:20260423T032857
CREATED:20151204T150151Z
LAST-MODIFIED:20160921T162325Z
UID:3058-1474675200-1474761599@andersonspeedway.com
SUMMARY:Season Championships
DESCRIPTION:FEATURING: \n\nHart’s Auto Figure 8\nThunderCars\nMarcum’s Welding Pro Compacts\nIndy Fast Karts\n\nTickets: \n\nAdults – $12\nKids (6-12) – $4\nFive and Under Free\n\n\n\n\nEVENT SCHEDULE:  (PRINTABLE VERSION)\n\n\n4:00 PM\nOpen Pit Gates\n\n\n5:00 PM\nRotating Practice\n\n\n\nThunderCars\n\n\n\nIndy Fast Karts\n\n\n\nMarcum’s Welding Pro Compacts\n\n\n\nHarts Auto Figure 8’s\n\n\n6:30 PM\nQualifications\n\n\n\nThunderCars\n\n\n\nIndy Fast Karts\n\n\n\nMarcum’s Welding Pro Compacts\n\n\n\nHarts Auto Figure 8’s\n\n\n\n\n\n\n7:30 PM\nDriver’s Meeting- (All Divisions)\n\n\n7:58 PM\nInvocation and National Anthem\n\n\n8:00 PM\n Heat\n\n\n\nThunderCars (10 Laps)\n\n\n\nIndy Fast Karts (10 Laps)\n\n\n\nMarcum’s Welding Pro Compacts (10 Laps)\n\n\n\nHarts Auto Figure 8’s (10 Laps)\n\n\n\nIntermission (track inspection) Brief\n\n\n\nFeatures\n\n\n\nThunderCars (30 Laps)\n\n\n\nIndy Fast Karts (25 Laps)\n\n\n\nMarcum’s Welding Pro Compacts (30 Laps)\n\n\n\nHarts Auto Figure 8’s (30 Laps)
URL:https://andersonspeedway.com/event/season-championships-3/
CATEGORIES:Event
END:VEVENT
END:VCALENDAR