BEGIN:VCALENDAR
VERSION:2.0
PRODID:-//Anderson, Indiana Speedway - ECPv6.15.20//NONSGML v1.0//EN
CALSCALE:GREGORIAN
METHOD:PUBLISH
X-ORIGINAL-URL:https://andersonspeedway.com
X-WR-CALDESC:Events for Anderson, Indiana Speedway
REFRESH-INTERVAL;VALUE=DURATION:PT1H
X-Robots-Tag:noindex
X-PUBLISHED-TTL:PT1H
BEGIN:VTIMEZONE
TZID:America/Indiana/Indianapolis
BEGIN:DAYLIGHT
TZOFFSETFROM:-0500
TZOFFSETTO:-0400
TZNAME:EDT
DTSTART:20150308T070000
END:DAYLIGHT
BEGIN:STANDARD
TZOFFSETFROM:-0400
TZOFFSETTO:-0500
TZNAME:EST
DTSTART:20151101T060000
END:STANDARD
BEGIN:DAYLIGHT
TZOFFSETFROM:-0500
TZOFFSETTO:-0400
TZNAME:EDT
DTSTART:20160313T070000
END:DAYLIGHT
BEGIN:STANDARD
TZOFFSETFROM:-0400
TZOFFSETTO:-0500
TZNAME:EST
DTSTART:20161106T060000
END:STANDARD
BEGIN:DAYLIGHT
TZOFFSETFROM:-0500
TZOFFSETTO:-0400
TZNAME:EDT
DTSTART:20170312T070000
END:DAYLIGHT
BEGIN:STANDARD
TZOFFSETFROM:-0400
TZOFFSETTO:-0500
TZNAME:EST
DTSTART:20171105T060000
END:STANDARD
END:VTIMEZONE
BEGIN:VEVENT
DTSTART;VALUE=DATE:20160917
DTEND;VALUE=DATE:20160918
DTSTAMP:20260423T033052
CREATED:20151204T150115Z
LAST-MODIFIED:20160914T185653Z
UID:3057-1474070400-1474156799@andersonspeedway.com
SUMMARY:Herald Bulletin Night at the Races
DESCRIPTION:FEATURING: \n\nCRA Late Model Sportsman\nCRA Street Stocks\nThunder Roadsters\n\nTickets: \n\nAdults – $12\nKids (6-12) – $4\nFive and Under Free\n\n\n\n\nEVENT SCHEDULE:  (PRINTABLE VERSION)\n\n\n3:00 PM\nOpen Pit Gates\n\n\n4:15 PM\nCRA Driver’s Meeting\n\n\n5:00 PM\nRotating Practice\n\n\n\nCRA Late Models\n\n\n\nThunder Roadsters\n\n\n\nCRA Street Stocks\n\n\n6:30 PM\nQualifications\n\n\n\nCRA Late Models\n\n\n\nThunder Roadsters\n\n\n\nCRA Street Stocks\n\n\n7:30 PM\nDriver’s Meeting- Anderson Divisions\n\n\n7:55 PM\nInvocation and National Anthem\n\n\n8:00 PM\nFeatures\n\n\n\nCRA Late  Models (75 Laps)\n\n\n\nThunder Roadsters (25 Laps)\n\n\n\nCRA Street Stocks (75 Laps)
URL:https://andersonspeedway.com/event/saturday-night-racing-34/
CATEGORIES:Event
END:VEVENT
END:VCALENDAR