BEGIN:VCALENDAR
VERSION:2.0
PRODID:-//Anderson, Indiana Speedway - ECPv6.15.20//NONSGML v1.0//EN
CALSCALE:GREGORIAN
METHOD:PUBLISH
X-ORIGINAL-URL:https://andersonspeedway.com
X-WR-CALDESC:Events for Anderson, Indiana Speedway
REFRESH-INTERVAL;VALUE=DURATION:PT1H
X-Robots-Tag:noindex
X-PUBLISHED-TTL:PT1H
BEGIN:VTIMEZONE
TZID:America/Indiana/Indianapolis
BEGIN:DAYLIGHT
TZOFFSETFROM:-0500
TZOFFSETTO:-0400
TZNAME:EDT
DTSTART:20150308T070000
END:DAYLIGHT
BEGIN:STANDARD
TZOFFSETFROM:-0400
TZOFFSETTO:-0500
TZNAME:EST
DTSTART:20151101T060000
END:STANDARD
BEGIN:DAYLIGHT
TZOFFSETFROM:-0500
TZOFFSETTO:-0400
TZNAME:EDT
DTSTART:20160313T070000
END:DAYLIGHT
BEGIN:STANDARD
TZOFFSETFROM:-0400
TZOFFSETTO:-0500
TZNAME:EST
DTSTART:20161106T060000
END:STANDARD
BEGIN:DAYLIGHT
TZOFFSETFROM:-0500
TZOFFSETTO:-0400
TZNAME:EDT
DTSTART:20170312T070000
END:DAYLIGHT
BEGIN:STANDARD
TZOFFSETFROM:-0400
TZOFFSETTO:-0500
TZNAME:EST
DTSTART:20171105T060000
END:STANDARD
END:VTIMEZONE
BEGIN:VEVENT
DTSTART;VALUE=DATE:20160910
DTEND;VALUE=DATE:20160911
DTSTAMP:20260423T033225
CREATED:20151204T145711Z
LAST-MODIFIED:20160621T154506Z
UID:3055-1473465600-1473551999@andersonspeedway.com
SUMMARY:Kids Bike Night presented by Madison County Storm Water Quality Partnership
DESCRIPTION:FEATURING: \n\nStreet Stocks\nVROA Modifieds\nMarcum’s Welding Pro Compacts\nCSR Super Cups\n\nTickets: \n\nAdults – $12\nKids (6-12) – $4\nFive and Under Free\n\n\n\n\nEVENT SCHEDULE:  (PRINTABLE VERSION)\n\n\n4:00 PM\nOpen Pit Gates\n\n\n5:00 PM\nRotating Practice\n\n\n\nVROA Modifieds\n\n\n\nStreet Stocks\n\n\n\nCSR Mini Cups\n\n\n\nMarcums Welding Pro Compacts\n\n\n6:30 PM\nQualifications\n\n\n\nVROA Modifieds\n\n\n\nStreet Stocks\n\n\n\nCSR Mini Cups\n\n\n\nMarcums Welding Pro Compacts\n\n\n7:30 PM\nDriver’s Meeting- Anderson Divisions\n\n\n7:55 PM\nInvocation and National Anthem\n\n\n8:00 PM\nHeats\n\n\n\nVROA Modifieds (10 Laps)\n\n\n\nStreet Stocks (10 laps)\n\n\n\nCSR Mini Cups (10 laps)\n\n\n\nMarcums Welding Pro Compacts (10 Laps)\n\n\n\nIntermission (track inspection) Brief\n\n\n\nFeatures\n\n\n\nVROA Modifieds (25 Laps)\n\n\n\nStreet Stocks (30 Laps)\n\n\n\nCSR Mini Cups (30 Laps)\n\n\n\nMarcums Welding Pro Compacts (25 Laps)
URL:https://andersonspeedway.com/event/saturday-night-racing-33/
CATEGORIES:Event
END:VEVENT
END:VCALENDAR