BEGIN:VCALENDAR
VERSION:2.0
PRODID:-//Anderson, Indiana Speedway - ECPv6.15.20//NONSGML v1.0//EN
CALSCALE:GREGORIAN
METHOD:PUBLISH
X-WR-CALNAME:Anderson, Indiana Speedway
X-ORIGINAL-URL:https://andersonspeedway.com
X-WR-CALDESC:Events for Anderson, Indiana Speedway
REFRESH-INTERVAL;VALUE=DURATION:PT1H
X-Robots-Tag:noindex
X-PUBLISHED-TTL:PT1H
BEGIN:VTIMEZONE
TZID:America/Indiana/Indianapolis
BEGIN:DAYLIGHT
TZOFFSETFROM:-0500
TZOFFSETTO:-0400
TZNAME:EDT
DTSTART:20180311T070000
END:DAYLIGHT
BEGIN:STANDARD
TZOFFSETFROM:-0400
TZOFFSETTO:-0500
TZNAME:EST
DTSTART:20181104T060000
END:STANDARD
BEGIN:DAYLIGHT
TZOFFSETFROM:-0500
TZOFFSETTO:-0400
TZNAME:EDT
DTSTART:20190310T070000
END:DAYLIGHT
BEGIN:STANDARD
TZOFFSETFROM:-0400
TZOFFSETTO:-0500
TZNAME:EST
DTSTART:20191103T060000
END:STANDARD
BEGIN:DAYLIGHT
TZOFFSETFROM:-0500
TZOFFSETTO:-0400
TZNAME:EDT
DTSTART:20200308T070000
END:DAYLIGHT
BEGIN:STANDARD
TZOFFSETFROM:-0400
TZOFFSETTO:-0500
TZNAME:EST
DTSTART:20201101T060000
END:STANDARD
END:VTIMEZONE
BEGIN:VEVENT
DTSTART;VALUE=DATE:20190405
DTEND;VALUE=DATE:20190406
DTSTAMP:20260419T083037
CREATED:20181218T191057Z
LAST-MODIFIED:20190304T213852Z
UID:7997-1554422400-1554508799@andersonspeedway.com
SUMMARY:Open Practice – All Divisions
DESCRIPTION:Friday\, April 5\, 2019 \nOPEN PRACTICE \nGENERAL ADMISSION: Fans can enter through the pit gate to watch practice for Free in the grandstands. \nPIT PASS: $18 per person \nAges 13 and under are not permitted to the pit area. Ages 14 to 17 will need to fill out a minor waiver form with parent/legal guardian at the pit office. \n\n\n\n\n\n\nEVENT SCHEDULE:  (PRINTABLE VERSION)\n\n\n3:00 PM\nOpen Pit Gates\n\n\n4:00 PM\nPractice Begins\n\n\n7:00 PM\nPractice Ends
URL:https://andersonspeedway.com/event/open-practice-all-divisions-20/
CATEGORIES:Event
END:VEVENT
BEGIN:VEVENT
DTSTART;VALUE=DATE:20190406
DTEND;VALUE=DATE:20190407
DTSTAMP:20260419T083037
CREATED:20181214T144022Z
LAST-MODIFIED:20190404T122419Z
UID:7920-1554508800-1554595199@andersonspeedway.com
SUMMARY:ARCA/CRA Super Series Late Models
DESCRIPTION:Saturday\, April 6\, 2019 \nRACING DIVISIONS: ARCA/CRA Super Series\, VORES Welding and Steel Street Stocks\, Hart’s Auto Figure 8’s\, Indiana-Ohio ThunderCar Series \nGENERAL ADMISSION: Adults – $15; Kids (6-12) $4\, 5 and under Free \nPIT PASS: Member Pit Pass – $26; Non-Member – $31 \nAges 13 and under are not permitted to the pit area. Ages 14 to 17 will need to fill out a minor waiver form with parent/legal guardian at the pit office. \n\n\n\n\n\n\n\nEVENT SCHEDULE:  (PRINTABLE VERSION)\n\n\n11:30 AM\n\nOpen Pit Gates\n\n\n1:15 PM\n\nCRA Drivers Meeting\n\n\n2:00 PM\n\nPractice –  CRA Super Series Only\n\n\n3:00 PM\n\nRotating Practice\n\n\n\n\nStreet Stocks\n\n\n\n\nThunderCars\n\n\n\n\nFigure 8’s\n\n\n4:30 PM\n\nQualifications\n\n\n\n\nCRA Super Series\n\n\n\n\nStreet Stocks\n\n\n\n\nThunderCars\n\n\n\n\nFigure 8’s\n\n\n5:30 PM\n\nDriver’s Meeting (Anderson Divisions)\n\n\n5:55 PM\n\nInvocation and National Anthem\n\n\n6:00 PM\n\nHeats\n\n\n\n\nStreet Stocks (10 Laps)\n\n\n\n\nFigure 8’s (10 Laps)\n\n\n\n\nFeatures\n\n\n\n\nCRA Super Series (125 Laps)\n\n\n\n\nStreet Stocks (30 laps)\n\n\n\n\nThunderCars (50 laps)\n\n\n\n\nFigure 8’s (25 Laps)
URL:https://andersonspeedway.com/event/arca-cra-super-series-late-models/
CATEGORIES:Event
END:VEVENT
BEGIN:VEVENT
DTSTART;VALUE=DATE:20190412
DTEND;VALUE=DATE:20190413
DTSTAMP:20260419T083037
CREATED:20181218T191216Z
LAST-MODIFIED:20190304T214455Z
UID:7999-1555027200-1555113599@andersonspeedway.com
SUMMARY:Open Practice – All Divisions
DESCRIPTION:Friday\, April 12\, 2019 \nOPEN PRACTICE \nGENERAL ADMISSION: Fans can enter through the pit gate to watch practice for Free in the grandstands. \nPIT PASS: $18 per person \nAges 13 and under are not permitted to the pit area. Ages 14 to 17 will need to fill out a minor waiver form with parent/legal guardian at the pit office. \n\n\n\n\n\n\nEVENT SCHEDULE:  (PRINTABLE VERSION)\n\n\n3:00 PM\nOpen Pit Gates\n\n\n4:00 PM\nPractice Begins\n\n\n7:00 PM\nPractice Ends
URL:https://andersonspeedway.com/event/open-practice-all-divisions-21/
CATEGORIES:Event
END:VEVENT
BEGIN:VEVENT
DTSTART;VALUE=DATE:20190413
DTEND;VALUE=DATE:20190414
DTSTAMP:20260419T083037
CREATED:20181214T144417Z
LAST-MODIFIED:20190328T192842Z
UID:7922-1555113600-1555199999@andersonspeedway.com
SUMMARY:Talecris Plasma Resources CRA Double Header
DESCRIPTION:Saturday\, April 13\, 2019 – Talecris Plasma Resources CRA Double Header \nRACING DIVISIONS: CRA Late Model Sportsman\, CRA Street Stocks\, Vore’s Compact Touring Series \nGENERAL ADMISSION: Adults – $12; Kids (6-12) $4\, 5 and under Free \nPIT PASS: Member Pit Pass – $26; Non-Member – $31 \nAges 13 and under are not permitted to the pit area. Ages 14 to 17 will need to fill out a minor waiver form with parent/legal guardian at the pit office. \nFor more information on Talecris Plasma Resources of Anderson\, Indiana please visit www.grifolsplasma.com \n\n\n\n\n\n\n\nEVENT SCHEDULE:  (PRINTABLE VERSION)\n\n\n12:30 PM\n\nOpen Pit Gates\n\n\n2:30 PM\n\nCRA Drivers Meeting\n\n\n3:00 PM\n\nPractice –  Rotating\n\n\n\n\nCRA Late Model Sportsman\n\n\n\n\nVORES Compact\n\n\n\n\nCRA Street Stocks\n\n\n4:30 PM\n\nQualifications\n\n\n\n\nCRA Late Model Sportsman\n\n\n\n\nVORES Compact\n\n\n\n\nCRA Street Stocks\n\n\n5:55 PM\n\nInvocation and National Anthem\n\n\n6:00 PM\n\nVORES Compact Last Chance Race (15 Laps)\n\n\n\n\nFeatures\n\n\n\n\nCRA Late Model Sportsman (75 Laps)\n\n\n\n\nVORES Compact (30 Laps)\n\n\n\n\nCRA Street Stocks (75 Laps)
URL:https://andersonspeedway.com/event/cra-double-header/
CATEGORIES:Event
END:VEVENT
BEGIN:VEVENT
DTSTART;VALUE=DATE:20190420
DTEND;VALUE=DATE:20190421
DTSTAMP:20260419T083037
CREATED:20181214T144640Z
LAST-MODIFIED:20190416T134130Z
UID:7924-1555718400-1555804799@andersonspeedway.com
SUMMARY:Saturday Night Racing
DESCRIPTION:Saturday\, April 20\, 2019 \nRACING DIVISIONS: CRS Super Trucks\, Mel Kenyon Midget Series\, Thunder Roadsters\, PGG Enterprise ThunderCars \nGENERAL ADMISSION: Adults – $12; Kids (6-12) $4\, 5 and under Free \nPIT PASS: Member Pit Pass – $26; Non-Member – $31 \nAges 13 and under are not permitted to the pit area. Ages 14 to 17 will need to fill out a minor waiver form with parent/legal guardian at the pit office. \n\n\n\n\n\n\nEVENT SCHEDULE:  (PRINTABLE VERSION)\n\n\n3:00 PM\nOpen Pit Gates\n\n\n4:00 PM\nRotating Practice/Open Front Gates\n\n\n\nCRS Super Trucks\n\n\n\nMel Kenyon Midgets\n\n\n\nThunderCars\n\n\n\nThunder Roadsters\n\n\n5:30 PM\nQualifications\n\n\n\nCRS Super Trucks\n\n\n\nMel Kenyon Midgets\n\n\n\nThunderCars\n\n\n\nThunder Roadsters\n\n\n6:30 PM\nDriver’s Meeting\n\n\n6:55 PM\nInvocation and National Anthem\n\n\n7:00 PM\nHeats\n\n\n\nMel Kenyon Midgets (10 Laps)\n\n\n\nThunderCars (10 Laps)\n\n\n\nThunder Roadsters (10 Laps)\n\n\n\nINTERMISSION\n\n\n\nFeatures\n\n\n\nCRS Super Trucks (50 Laps)\n\n\n\nMel Kenyon Midgets (30 Laps)\n\n\n\nThunderCars (30 Laps)\n\n\n\nThunder Roadsters (25 Laps)
URL:https://andersonspeedway.com/event/saturday-night-racing-56/
CATEGORIES:Event
END:VEVENT
BEGIN:VEVENT
DTSTART;TZID=America/Indiana/Indianapolis:20190427T080000
DTEND;TZID=America/Indiana/Indianapolis:20190427T170000
DTSTAMP:20260419T083037
CREATED:20181214T144848Z
LAST-MODIFIED:20190304T212755Z
UID:7926-1556352000-1556384400@andersonspeedway.com
SUMMARY:Saturday Night Racing
DESCRIPTION:Saturday\, April 27\, 2019 \nRACING DIVISIONS: McGunegill Engine Late Models\, VROA Modifieds\, Marcums Welding Front Wheel Drives\, Pro National Baby Grand Series \nGENERAL ADMISSION: Adults – $12; Kids (6-12) $4\, 5 and under Free \nPIT PASS: Member Pit Pass – $26; Non-Member – $31 \nAges 13 and under are not permitted to the pit area. Ages 14 to 17 will need to fill out a minor waiver form with parent/legal guardian at the pit office. \n\n\n\n\n\n\nEVENT SCHEDULE:  (PRINTABLE VERSION)\n\n\n3:00 PM\nOpen Pit Gates\n\n\n4:00 PM\nRotating Practice/Open Front Gates\n\n\n\nVROA Modifieds\n\n\n\nLate Models\n\n\n\nPro National Series Baby Grands\n\n\n\nFront Wheel Drives\n\n\n5:30 PM\nQualifications\n\n\n\nVROA Modifieds\n\n\n\nLate Models\n\n\n\nPro National Series Baby Grands\n\n\n\nFront Wheel Drives\n\n\n6:30 PM\nDriver’s Meeting\n\n\n6:55 PM\nInvocation and National Anthem\n\n\n7:00 PM\nHeats\n\n\n\nVROA Modifieds (10 Laps)\n\n\n\nLate Models (10 Laps)\n\n\n\nPro National Series Baby Grands (10 Laps)\n\n\n\nFront Wheel Drives (10 Laps)\n\n\n\nINTERMISSION\n\n\n\nFeatures\n\n\n\nVROA Modifieds (30 Laps)\n\n\n\nLate Models (35 Laps)\n\n\n\nPro National Series Baby Grands (30 laps)\n\n\n\nFront Wheel Drives (25 Laps)
URL:https://andersonspeedway.com/event/saturday-night-racing-61/
CATEGORIES:Event
END:VEVENT
END:VCALENDAR