BEGIN:VCALENDAR
VERSION:2.0
PRODID:-//Anderson, Indiana Speedway - ECPv6.15.20//NONSGML v1.0//EN
CALSCALE:GREGORIAN
METHOD:PUBLISH
X-ORIGINAL-URL:https://andersonspeedway.com
X-WR-CALDESC:Events for Anderson, Indiana Speedway
REFRESH-INTERVAL;VALUE=DURATION:PT1H
X-Robots-Tag:noindex
X-PUBLISHED-TTL:PT1H
BEGIN:VTIMEZONE
TZID:America/Indiana/Indianapolis
BEGIN:DAYLIGHT
TZOFFSETFROM:-0500
TZOFFSETTO:-0400
TZNAME:EDT
DTSTART:20170312T070000
END:DAYLIGHT
BEGIN:STANDARD
TZOFFSETFROM:-0400
TZOFFSETTO:-0500
TZNAME:EST
DTSTART:20171105T060000
END:STANDARD
BEGIN:DAYLIGHT
TZOFFSETFROM:-0500
TZOFFSETTO:-0400
TZNAME:EDT
DTSTART:20180311T070000
END:DAYLIGHT
BEGIN:STANDARD
TZOFFSETFROM:-0400
TZOFFSETTO:-0500
TZNAME:EST
DTSTART:20181104T060000
END:STANDARD
BEGIN:DAYLIGHT
TZOFFSETFROM:-0500
TZOFFSETTO:-0400
TZNAME:EDT
DTSTART:20190310T070000
END:DAYLIGHT
BEGIN:STANDARD
TZOFFSETFROM:-0400
TZOFFSETTO:-0500
TZNAME:EST
DTSTART:20191103T060000
END:STANDARD
END:VTIMEZONE
BEGIN:VEVENT
DTSTART;VALUE=DATE:20180901
DTEND;VALUE=DATE:20180902
DTSTAMP:20260421T144950
CREATED:20171201T182003Z
LAST-MODIFIED:20180823T172343Z
UID:6039-1535760000-1535846399@andersonspeedway.com
SUMMARY:Herald Bulletin Night of Thrills presented by Anderson/Madison Visitors Bureau and Hoosier Park
DESCRIPTION:Featuring: \n\nSchool Bus Figure 8’s\nFront Wheel Figure 8’s\nFront Wheel Drives\nTrailer Race Figure 8’s\nRoll-Over \nFireworks\n\nAdmission:\n• Adults – $15\n• Kids (6-12) – $4\n• Five and Under Free \nTickets can be purchased at Anderson Speedway Monday-Friday (10:00am-4:00pm) \nPit Passes:\n• Member – $26\n• Non-Member – $31 \nSchedule:  \nPit Gates Open/Front Gates Open – 4:00pm\nPractice – 4:30pm\nQualifying – 6:00pm\nRacing – 7:00pm \nTrailer Race\nRequirements:\nMinimum 10ft Trailer\, Decorated\nAll glass needs to be taken out of the car\nBoats should have all fuel drained and RVs should be gutted\nLimited Number of Trailers will be accepted. To register please call (765) 642-0206 or register in the main office. \nFirst 12 entered on September 1 will get $200\, additional trailers will get $100 \nFWD Figure 8 Rules:\nAnderson FWD or VORES Compact rules both apply. Most important part is safety equipment. \n 
URL:https://andersonspeedway.com/event/night-of-thrills-2/
CATEGORIES:Event
END:VEVENT
BEGIN:VEVENT
DTSTART;VALUE=DATE:20180908
DTEND;VALUE=DATE:20180909
DTSTAMP:20260421T144950
CREATED:20171201T182200Z
LAST-MODIFIED:20180907T175957Z
UID:6043-1536364800-1536451199@andersonspeedway.com
SUMMARY:Special Non-Racing Event; Out of the Darkness Walk
DESCRIPTION:Now being held at  Reardon Auditorium on the campus of Anderson University \nWhen you walk in the Out of the Darkness Walks\, you join the effort with hundreds of thousands of people to raise awareness and funds that allow the American Foundation for Suicide Prevention (AFSP) to invest in new research\, create educational programs\, advocate for public policy\, and support survivors of suicide loss. \nContact Name: Christy Lanane (765-646-8386) & Skip Ockomon (765-425-1936)\nContact Email: Christine.Lanane@stvincent.org \nThe walk is free!! Sign up by clicking the link below. \nEvent Information: Click Here
URL:https://andersonspeedway.com/event/special-non-racing-event-darkness-walk/
CATEGORIES:Event
END:VEVENT
BEGIN:VEVENT
DTSTART;VALUE=DATE:20180913
DTEND;VALUE=DATE:20180914
DTSTAMP:20260421T144950
CREATED:20171201T182109Z
LAST-MODIFIED:20180913T132424Z
UID:6041-1536796800-1536883199@andersonspeedway.com
SUMMARY:Thursday Night Sprints/Glen Niebel Classic
DESCRIPTION:Featuring: \n\nNon-Wing Anderson Sprints\nThunder Roadsters\nHart’s Auto Center Figure 8’s\n\nAdmission:\n• Adults – $15\n• Kids (6-12) – $4\n• Five and Under Free \nPit Passes:\n• Member – $26\n• Non-Member – $31 \n\n\n\nEVENT SCHEDULE:  (PRINTABLE VERSION)\n\n\n3:00 PM\nOpen Pit Gates\n\n\n4:00 PM\nRotating Practice- Front Gate Opens\n\n\n\nThunder Roadsters\n\n\n\nNon-Wing Sprints\n\n\n\nHart’s Auto Center Figure 8’s\n\n\n5:30 PM\nQualifications\n\n\n\nThunder Roadsters\n\n\n\nNon-Wing Sprints\n\n\n\nHart’s Auto Center Figure 8’s\n\n\n6:55 PM\nInvocation and National Anthem\n\n\n7:00 PM\nFeatures\n\n\n\nThunder Roadsters (30 Laps)\n\n\n\nNon-Wing Sprints (125 Laps)\n\n\n\nHart’s Auto Center Figure 8’s (30 Laps)\n\n\n\n  \nRules: Click Here \nEntry List:  \nPurse – Thursday Night Sprints\n1. $3000        12. $450\n2. $1500        13. $450\n3. $750          14. $450\n4. $700          15. $450\n5. $650          16. $450\n6. $600          17. $450\n7. $575          18. $450\n8. $550          19. $450\n9. $525          20. $450\n10. $500        21. $450\n11. $475        22. $450 \n 
URL:https://andersonspeedway.com/event/thursday-night-sprint-car-action-3/
CATEGORIES:Event
END:VEVENT
BEGIN:VEVENT
DTSTART;VALUE=DATE:20180914
DTEND;VALUE=DATE:20180915
DTSTAMP:20260421T144950
CREATED:20171201T180122Z
LAST-MODIFIED:20180126T202041Z
UID:6002-1536883200-1536969599@andersonspeedway.com
SUMMARY:Open Practice- All Divisions
DESCRIPTION:Open Practice- All Divisions \nAll Pit Passes are $18; Grandstands are open to watch for Free. \n\n\n\nEVENT SCHEDULE:  (PRINTABLE VERSION)\n\n\n4:00 PM\nOpen Pit Gates\n\n\n5:00 PM\nPractice Begins\n\n\n8:00 PM\nPractice Ends
URL:https://andersonspeedway.com/event/open-practice-divisions-42/
CATEGORIES:Event
END:VEVENT
BEGIN:VEVENT
DTSTART;VALUE=DATE:20180915
DTEND;VALUE=DATE:20180916
DTSTAMP:20260421T144950
CREATED:20171201T182431Z
LAST-MODIFIED:20180807T190245Z
UID:6046-1536969600-1537055999@andersonspeedway.com
SUMMARY:CRA Street Stocks & CRA Late Model Sportsman presented by Thompson Insurance & Cintas
DESCRIPTION:FEATURING: \n\nCRA Late Models\nCRA Street Stocks\nVores Compact Touring Series\nUAW Made in America Mel Kenyon Midgets – Parallax Power Supply 30\n\nAdmission:\n• Adults – $12\n• Kids (6-12) – $4\n• Five and Under Free \nPit Passes:\n• Member – $26\n• Non-Member – $31 \n\n\n\nEVENT SCHEDULE:  (PRINTABLE VERSION)\n\n\n3:30 PM\nOpen Pit Gates\n\n\n4:30 PM\nCRA Drivers Meeting\n\n\n5:00 PM\nPractice Rotating- Front Gates Open\n\n\n\nCRA Sportsman Late Models\n\n\n\nUSSA Mel Kenyon Midgets\n\n\n\nVORES Compact Touring Series\n\n\n\nCRA Street Stocks\n\n\n6:30 PM\nQualifications\n\n\n\nCRA Sportsman Late Models\n\n\n\nUSSA Mel Kenyon Midgets\n\n\n\nVORES Compact Touring Series\n\n\n\nCRA Street Stocks\n\n\n7:55 PM\nInvocation and National Anthem\n\n\n8:00 PM\nHeats\n\n\n\nUSSA Mel Kenyon Midgets (10 Laps)\n\n\n\nVORES Compact Touring Series (10 Laps)\n\n\n\nIntermisson\n\n\n\nCRA Sportsman Late Models (75 Laps)\n\n\n\nUSSA Mel Kenyon Midgets (Parallax Power Supply 30 Laps)\n\n\n\nVORES Compact Touring Series (30 Laps)\n\n\n\nCRA Street Stocks (75 Laps)
URL:https://andersonspeedway.com/event/saturday-night-racing-cra-street-stocks-cra-late-model-sportsman/
CATEGORIES:Event
END:VEVENT
BEGIN:VEVENT
DTSTART;VALUE=DATE:20180921
DTEND;VALUE=DATE:20180922
DTSTAMP:20260421T144950
CREATED:20171201T180154Z
LAST-MODIFIED:20180402T180732Z
UID:6004-1537488000-1537574399@andersonspeedway.com
SUMMARY:Open Practice- All Divisions
DESCRIPTION:Open Practice- All Divisions \nAll Pit Passes are $18; Grandstands are open to watch for Free. \n\n\n\nEVENT SCHEDULE:  (PRINTABLE VERSION)\n\n\n4:00 PM\nOpen Pit Gates\n\n\n5:00 PM\nPractice Begins\n\n\n8:00 PM\nPractice Ends
URL:https://andersonspeedway.com/event/open-practice-divisions-43/
CATEGORIES:Event
END:VEVENT
BEGIN:VEVENT
DTSTART;VALUE=DATE:20180922
DTEND;VALUE=DATE:20180923
DTSTAMP:20260421T144950
CREATED:20171201T182136Z
LAST-MODIFIED:20180402T180757Z
UID:6037-1537574400-1537660799@andersonspeedway.com
SUMMARY:Season Championships
DESCRIPTION:FEATURING: \n\nMcGunegill Engine Late Models\nVORES Welding and Steel Street Stocks\nThunder Cars\nThunder Roadsters\n\nAdmission:\n• Adults – $12\n• Kids (6-12) – $4\n• Five and Under Free \nPit Passes:\n• Member – $26\n• Non-Member – $31 \n\n\n\nEVENT SCHEDULE:  (PRINTABLE VERSION)\n\n\n4:00 PM\nOpen Pit Gates\n\n\n5:00 PM\nPractice Rotating- Front Gates Open\n\n\n\nLate Models\n\n\n\nVORES Welding and Steel Street Stocks\n\n\n\nThunder Roadsters\n\n\n\nThunderCars\n\n\n6:30 PM\nQualifications\n\n\n\nMcGunegill Engine Late Models\n\n\n\nVORES Welding and Steel Street Stocks\n\n\n\nThunder Roadsters\n\n\n\nThunderCars\n\n\n7:30 PM\nDrivers Meeting (All Divisions)\n\n\n7:55 PM\nInvocation and National Anthem\n\n\n8:00 PM\nHeats\n\n\n\nMcGunegill Engine Late Models (10 Laps)\n\n\n\nVORES Welding and Steel Street Stocks (10 Laps)\n\n\n\nThunder Roadsters (10 Laps)\n\n\n\nThunderCars (10 Laps)\n\n\n\nIntermission\n\n\n\nMcGunegill Engine Late Models (40 Laps)\n\n\n\nVORES Welding and Steel Street Stocks (35 Laps)\n\n\n\nThunder Roadsters (30 Laps)\n\n\n\nThunderCars (35 Laps)
URL:https://andersonspeedway.com/event/season-championships-6/
CATEGORIES:Event
END:VEVENT
BEGIN:VEVENT
DTSTART;VALUE=DATE:20180928
DTEND;VALUE=DATE:20180929
DTSTAMP:20260421T144950
CREATED:20171201T180229Z
LAST-MODIFIED:20180924T172042Z
UID:6006-1538092800-1538179199@andersonspeedway.com
SUMMARY:Open Practice- All Divisions
DESCRIPTION:Open Practice- All Divisions \nAll Pit Passes are $18; Grandstands are open to watch for Free. \n\n\n\nEVENT SCHEDULE:  (PRINTABLE VERSION)\n\n\n3:00 PM\nOpen Pit Gates\n\n\n4:00 PM\nPractice Begins\n\n\n7:00 PM\nPractice Ends
URL:https://andersonspeedway.com/event/open-practice-divisions-44/
CATEGORIES:Event
END:VEVENT
BEGIN:VEVENT
DTSTART;VALUE=DATE:20180929
DTEND;VALUE=DATE:20180930
DTSTAMP:20260421T144950
CREATED:20171201T181835Z
LAST-MODIFIED:20180929T144642Z
UID:6032-1538179200-1538265599@andersonspeedway.com
SUMMARY:ThunderCar 100
DESCRIPTION:FEATURING: \n\nThunderCars\nMarcum’s Welding Front Wheel Drives\nHart’s Auto Center Figure 8’s\n\nAdmission:\n• Adults – $12\n• Kids (6-12) – $4\n• Five and Under Free \nPit Passes:\n• Member – $26\n• Non-Member – $31 \nThunderCar 100 Purse:\n1. 1000     9. 150\n2. 500     10. 100\n3. 400     11. 90\n4. 300     12. 80\n5. 250     13. 70\n6. 200     14. 60\n7. 175     15-24. 50 \nThunderCar Rules – Click Here \n\n\n\nEVENT SCHEDULE:  (PRINTABLE VERSION)\n\n\n4:00 PM\nOpen Pit Gates\n\n\n5:00 PM\nPractice Rotating- Front Gates Open\n\n\n\nHart’s Auto Center Figure 8’s\n\n\n\nMarcums Welding Front Wheel Drives\n\n\n\nThunderCars\n\n\n6:30 PM\nQualifications\n\n\n\nHart’s Auto Center Figure 8’s\n\n\n\nMarcums Welding Front Wheel Drives\n\n\n\nThunderCars\n\n\n7:30 PM\nDrivers Meeting (All Divisions)\n\n\n7:55 PM\nInvocation and National Anthem\n\n\n8:00 PM\nFeatures\n\n\n\nHart’s Auto Center Figure 8’s (30 Laps)\n\n\n\nMarcum Welding Front Wheel Drives (30 Laps)\n\n\n\nThunderCar (100 Laps)
URL:https://andersonspeedway.com/event/thundercar-100/
CATEGORIES:Event
END:VEVENT
END:VCALENDAR