BEGIN:VCALENDAR
VERSION:2.0
PRODID:-//Anderson, Indiana Speedway - ECPv6.15.20//NONSGML v1.0//EN
CALSCALE:GREGORIAN
METHOD:PUBLISH
X-ORIGINAL-URL:https://andersonspeedway.com
X-WR-CALDESC:Events for Anderson, Indiana Speedway
REFRESH-INTERVAL;VALUE=DURATION:PT1H
X-Robots-Tag:noindex
X-PUBLISHED-TTL:PT1H
BEGIN:VTIMEZONE
TZID:America/Indiana/Indianapolis
BEGIN:DAYLIGHT
TZOFFSETFROM:-0500
TZOFFSETTO:-0400
TZNAME:EDT
DTSTART:20170312T070000
END:DAYLIGHT
BEGIN:STANDARD
TZOFFSETFROM:-0400
TZOFFSETTO:-0500
TZNAME:EST
DTSTART:20171105T060000
END:STANDARD
BEGIN:DAYLIGHT
TZOFFSETFROM:-0500
TZOFFSETTO:-0400
TZNAME:EDT
DTSTART:20180311T070000
END:DAYLIGHT
BEGIN:STANDARD
TZOFFSETFROM:-0400
TZOFFSETTO:-0500
TZNAME:EST
DTSTART:20181104T060000
END:STANDARD
BEGIN:DAYLIGHT
TZOFFSETFROM:-0500
TZOFFSETTO:-0400
TZNAME:EDT
DTSTART:20190310T070000
END:DAYLIGHT
BEGIN:STANDARD
TZOFFSETFROM:-0400
TZOFFSETTO:-0500
TZNAME:EST
DTSTART:20191103T060000
END:STANDARD
END:VTIMEZONE
BEGIN:VEVENT
DTSTART;VALUE=DATE:20180601
DTEND;VALUE=DATE:20180602
DTSTAMP:20260421T190700
CREATED:20171226T152346Z
LAST-MODIFIED:20171226T152346Z
UID:6102-1527811200-1527897599@andersonspeedway.com
SUMMARY:Black and White Gala- Anderson Rotary Club
DESCRIPTION:
URL:https://andersonspeedway.com/event/black-white-gala-anderson-rotary-club/
CATEGORIES:Event
END:VEVENT
BEGIN:VEVENT
DTSTART;VALUE=DATE:20180609
DTEND;VALUE=DATE:20180610
DTSTAMP:20260421T190700
CREATED:20171201T162458Z
LAST-MODIFIED:20180605T201748Z
UID:5953-1528502400-1528588799@andersonspeedway.com
SUMMARY:Military Appreciaiton Night presented by Double T Leather
DESCRIPTION:FEATURING: \n\nMcGunegill Engine Late Models\nUAW Mel Kenyon Midgets Parallax Power Supply 30\nMarcums Welding Front Wheel Drives\nVORES Welding & Steel Street Stocks\n\nAdmission:\n• Adults – $12\n• Kids (6-12) – $4\n• Five and Under Free \nAll active Military and Veterans receive free admission. \nPit Passes:\n• Member – $26\n• Non-Member – $31 \nPurse: Late Models\n1. $1500   11. $150\n2. $800     12. $150\n3. $400     13. $150\n4. $300     14. $150\n5. $250     15. $150\n6. $200     16. $150\n7. $190     17. $150\n8. $180     18. $150\n9. $170     19. $150\n10. $165   20. $150 \n\n\n\nEVENT SCHEDULE:  (PRINTABLE VERSION)\n\n\n4:00 PM\nOpen Pit Gates\n\n\n5:00 PM\nRotating Practice- Front Gate Opens\n\n\n\nUSSA Mel Kenyon Midgets\n\n\n\nMcGunegill Engine Late Models\n\n\n\nVORES Welding and Steel Street Stocks\n\n\n\nMarcums Welding Front Wheel Drives\n\n\n6:30 PM\nUSSA Mel Kenyon Midgets\n\n\n\nMcGunegill Engine Late Models\n\n\n\nVORES Welding and Steel Street Stocks\n\n\n\nMarcums Welding Front Wheel Drives\n\n\n7:30 PM\nDrivers Meeting (All Divisions)\n\n\n7:55 PM\nInvocation and National Anthem\n\n\n8:00 PM\nHeats\n\n\n\nUSSA Mel Kenyon Midgets (10 Laps)\n\n\n\nVORES Welding and Steel Street Stocks (10 Laps)\n\n\n\nMarcums Welding Front Wheel Drives (10 Laps)\n\n\n\nIntermission\n\n\n\nFeatures\n\n\n\nUSSA Mel Kenyon Midgets (30 Laps)\n\n\n\nMcGunegill Engine Late Models (75 Laps)\n\n\n\nVORES Welding and Steel Street Stocks (30 Laps)\n\n\n\nMarcums Welding Front Wheel Drives (25 Laps)
URL:https://andersonspeedway.com/event/military-appreciaiton-night-presented-double-t-leather/
CATEGORIES:Event
END:VEVENT
BEGIN:VEVENT
DTSTART;VALUE=DATE:20180615
DTEND;VALUE=DATE:20180616
DTSTAMP:20260421T190700
CREATED:20171201T175904Z
LAST-MODIFIED:20180402T144926Z
UID:5994-1529020800-1529107199@andersonspeedway.com
SUMMARY:Open Practice- All Divisions
DESCRIPTION:Open Practice- All Divisions \nAll Pit Passes are $18; Grandstands are open to watch for Free. \n\n\n\nEVENT SCHEDULE:  (PRINTABLE VERSION)\n\n\n4:00 PM\nOpen Pit Gates\n\n\n5:00 PM\nPractice Begins\n\n\n8:00 PM\nPractice Ends
URL:https://andersonspeedway.com/event/open-practice-divisions-39/
CATEGORIES:Event
END:VEVENT
BEGIN:VEVENT
DTSTART;VALUE=DATE:20180616
DTEND;VALUE=DATE:20180617
DTSTAMP:20260421T190700
CREATED:20171201T162612Z
LAST-MODIFIED:20180614T182028Z
UID:5957-1529107200-1529193599@andersonspeedway.com
SUMMARY:Sport Clips Night at the Races featuring the CRA Street Stock 200
DESCRIPTION:FEATURING: \n\nSport Clips CRA Street Stocks 200\nLegends\nThunderCars\n\nAdmission:\n• Adults – $12\n• Kids (6-12) – $4\n• Five and Under Free \nPit Passes:\n• Member – $26\n• Non-Member – $31 \n\n\n\nEVENT SCHEDULE:  (PRINTABLE VERSION)\n\n\n3:30 PM\nOpen Pit Gates\n\n\n4:15 PM\nCRA Drivers Meeting\n\n\n5:00 PM\nRotating Practice- Front Gate Opens\n\n\n\nCRA Street Stocks\n\n\n\nLegends\n\n\n\nThunderCars\n\n\n6:30 PM\nQualifications\n\n\n\nCRA Street Stocks\n\n\n\nLegends\n\n\n\nThunderCars\n\n\n7:30 PM\nDrivers Meeting (All Divisions)\n\n\n7:55 PM\nInvocation and National Anthem\n\n\n8:00 PM\nHeats\n\n\n\nLegends\n\n\n\nThunderCars\n\n\n\nIntermission\n\n\n\nFeatures\n\n\n\nLegends (25 Laps)\n\n\n\nThunderCars (25 Laps)\n\n\n\nSport Clips CRA Street Stocks (200 Laps) Break at 100 Laps
URL:https://andersonspeedway.com/event/cra-street-stock-200-4/
CATEGORIES:Event
END:VEVENT
BEGIN:VEVENT
DTSTART;VALUE=DATE:20180621
DTEND;VALUE=DATE:20180622
DTSTAMP:20260421T190700
CREATED:20171201T163043Z
LAST-MODIFIED:20180621T200303Z
UID:5961-1529539200-1529625599@andersonspeedway.com
SUMMARY:Thursday Night Sprints with Outlaw Figure 8's - Canceled
DESCRIPTION:FEATURING: \n\nNon-Wing Sprint Cars\nK & M Tool and Die Mel Kenyon Midgets\nThunder Roadsters\nOutlaw Figure 8’s\n\nAdmission:\n• Adults – $15\n• Kids (6-12) – $4\n• Five and Under Free \nPit Passes:\n• Member – $26\n• Non-Member – $31 \n\n\n\n\n\n\nEVENT SCHEDULE:  (PRINTABLE VERSION)\n\n\n3:00 PM\nOpen Pit Gates\n\n\n4:00 PM\nPractice – Rotating\n\n\n\nNon-Wing Sprints\n\n\n\nOutlaw Figure 8’s\n\n\n\nK & M Tool and Die Mel Kenyon Midgets\n\n\n\nThunder Roadsters\n\n\n5:30 PM\nQualifications\n\n\n\nNon-Wing Sprints\n\n\n\nOutlaw Figure 8’s\n\n\n\nK & M Tool and Die Mel Kenyon Midgets\n\n\n\nThunder Roadsters\n\n\n6:55 PM\nInvocation & National Anthem\n\n\n7:00 PM\nFeatures\n\n\n\nNon-Wing Sprints (75 Laps)\n\n\n\nOutlaw Figure 8’s (50 Laps)\n\n\n\nK & M Tool and Die Mel Kenyon Midgets (40 Laps)\n\n\n\nThunder Roadsters (30 Laps)\n\n\n\n  \nPurse – Thursday Night Sprints\n1. $3000    12. $450\n2. $1500    13. $450\n3. $750      14. $450\n4. $700      15. $450\n5. $650      16. $450\n6. $600      17. $450\n7. $575      18. $450\n8. $550      19. $450\n9. $525      20. $450\n10. $500    21. $450\n11. $475    22. $450 \nSprint Car Rules: \nTires Click Here (They do not have to be purchased at the track.) \nRules Click Here  \nPurse – Outlaw Figure 8’s\n1. $1500 11. $180\n2. $750 12. $175\n3. $500 13. $175\n4. $350 14. $175\n5. $300 15. $175\n6. $250 16. $175\n7. $200 17. $175\n8. $195 18. $175\n9. $190 19. $175\n10. $185 20. $175 \nOutlaw Figure 8 Rules: \nSame as the Indianapolis Speedrome construction rules. 8 inch Hoosier Speedrome Tires.
URL:https://andersonspeedway.com/event/thursday-night-sprint-car-action/
CATEGORIES:Event
END:VEVENT
BEGIN:VEVENT
DTSTART;VALUE=DATE:20180623
DTEND;VALUE=DATE:20180624
DTSTAMP:20260421T190700
CREATED:20171201T163431Z
LAST-MODIFIED:20180604T170921Z
UID:5966-1529712000-1529798399@andersonspeedway.com
SUMMARY:Saturday Night Racing
DESCRIPTION:FEATURING: \n\nMcGunegill Engine Late Models\nVROA Modifieds\nThunderCars\nCSR Super Cups\nIndy FasKarts\n\nAdmission:\n• Adults – $12\n• Kids (6-12) – $4\n• Five and Under Free \nPit Passes:\n• Member – $26\n• Non-Member – $31 \n\n\n\nEVENT SCHEDULE:  (PRINTABLE VERSION)\n\n\n4:00 PM\nOpen Pit Gates\n\n\n5:00 PM\nRotating Practice- Front Gate Opens\n\n\n\nVROA Modifieds\n\n\n\nMcGunegill Engine Late Models\n\n\n\nCSR Super Cups\n\n\n\nThunderCars\n\n\n\nIndy FasKarts\n\n\n5:30 PM\nQualifications\n\n\n\nVROA Modifieds\n\n\n\nMcGunegill Engine Late Models\n\n\n\nCSR Super Cups\n\n\n\nThunderCars\n\n\n\nIndy FasKarts\n\n\n7:30 PM\nDrivers Meeting\n\n\n7:55 PM\nInvocation and National Anthem\n\n\n8:00 PM\nHeats\n\n\n\nVROA Modifieds (10 Laps)\n\n\n\nMcGunegill Engine Late Models (10 Laps)\n\n\n\nCSR Super Cups (10 Laps)\n\n\n\nThunderCars (10 Laps)\n\n\n\nIndy FasKarts (10 Laps)\n\n\n\nFeatures\n\n\n\nVROA Modifieds (30 laps)\n\n\n\nMcGunegill Engine Late Models (35 Laps)\n\n\n\nCSR Super Cups (30 Laps)\n\n\n\nThunderCars (30 Laps)\n\n\n\nIndy FasKarts (25 Laps)
URL:https://andersonspeedway.com/event/saturday-night-racing-54/
CATEGORIES:Event
END:VEVENT
BEGIN:VEVENT
DTSTART;VALUE=DATE:20180630
DTEND;VALUE=DATE:20180701
DTSTAMP:20260421T190700
CREATED:20171201T163620Z
LAST-MODIFIED:20180330T195006Z
UID:5971-1530316800-1530403199@andersonspeedway.com
SUMMARY:Saturday Night Racing
DESCRIPTION:FEATURING: \n\nMcGunegill Engine Late Models\nHarts Auto Center Figure 8’s\nMarcums Welding Front Wheel Drives\nMidwest Champ Karts\nThunderCars\n\nAdmission:\n• Adults – $12\n• Kids (6-12) – $4\n• Five and Under Free \nPit Passes:\n• Member – $26\n• Non-Member – $31 \n\n\n\nEVENT SCHEDULE:  (PRINTABLE VERSION)\n\n\n4:00 PM\nOpen Pit Gates\n\n\n5:00 PM\nRotating Practice- Front Gate Opens\n\n\n\nMcGunegill Engine Late Models\n\n\n\nMidwest Champ Carts\n\n\n\nThunder Cars\n\n\n\nMarcums Welding Front Wheel Drives\n\n\n\nHart’s Auto Center Figure 8’s\n\n\n5:30 PM\nQualifications\n\n\n\nMcGunegill Engine Late Models\n\n\n\nMidwest Champ Carts\n\n\n\nThunder Cars\n\n\n\nMarcums Welding Front Wheel Drives\n\n\n\nHart’s Auto Center Figure 8’s\n\n\n7:30 PM\nDrivers Meeting\n\n\n7:55 PM\nInvocation and National Anthem\n\n\n8:00 PM\nHeats\n\n\n\nMcGunegill Engine Late Models (10 Laps)\n\n\n\nMidwest Champ Carts (10 Laps)\n\n\n\nThunder Cars (10 Laps)\n\n\n\nMarcums Welding Front Wheel Drives (10 Laps)\n\n\n\nHart’s Auto Center Figure 8’s (10 Laps)\n\n\n\nFeatures\n\n\n\nMcGunegill Engine Late Models (35 Laps)\n\n\n\nMidwest Champ Carts (25 Laps)\n\n\n\nThunder Cars (30 Laps)\n\n\n\nMarcums Welding Front Wheel Drives (25 Laps)\n\n\n\nHart’s Auto Center Figure 8’s (25 Laps)
URL:https://andersonspeedway.com/event/saturday-night-racing-55/
CATEGORIES:Event
END:VEVENT
END:VCALENDAR