BEGIN:VCALENDAR
VERSION:2.0
PRODID:-//Anderson, Indiana Speedway - ECPv6.15.20//NONSGML v1.0//EN
CALSCALE:GREGORIAN
METHOD:PUBLISH
X-ORIGINAL-URL:https://andersonspeedway.com
X-WR-CALDESC:Events for Anderson, Indiana Speedway
REFRESH-INTERVAL;VALUE=DURATION:PT1H
X-Robots-Tag:noindex
X-PUBLISHED-TTL:PT1H
BEGIN:VTIMEZONE
TZID:America/Indiana/Indianapolis
BEGIN:DAYLIGHT
TZOFFSETFROM:-0500
TZOFFSETTO:-0400
TZNAME:EDT
DTSTART:20170312T070000
END:DAYLIGHT
BEGIN:STANDARD
TZOFFSETFROM:-0400
TZOFFSETTO:-0500
TZNAME:EST
DTSTART:20171105T060000
END:STANDARD
BEGIN:DAYLIGHT
TZOFFSETFROM:-0500
TZOFFSETTO:-0400
TZNAME:EDT
DTSTART:20180311T070000
END:DAYLIGHT
BEGIN:STANDARD
TZOFFSETFROM:-0400
TZOFFSETTO:-0500
TZNAME:EST
DTSTART:20181104T060000
END:STANDARD
BEGIN:DAYLIGHT
TZOFFSETFROM:-0500
TZOFFSETTO:-0400
TZNAME:EDT
DTSTART:20190310T070000
END:DAYLIGHT
BEGIN:STANDARD
TZOFFSETFROM:-0400
TZOFFSETTO:-0500
TZNAME:EST
DTSTART:20191103T060000
END:STANDARD
END:VTIMEZONE
BEGIN:VEVENT
DTSTART;VALUE=DATE:20180504
DTEND;VALUE=DATE:20180505
DTSTAMP:20260421T203626
CREATED:20171201T175005Z
LAST-MODIFIED:20180402T135455Z
UID:5988-1525392000-1525478399@andersonspeedway.com
SUMMARY:Open Practice- All Divisions
DESCRIPTION:Open Practice- All Divisions \nAll Pit Passes are $18; Grandstands are open to watch for Free. \n\n\n\nEVENT SCHEDULE:  (PRINTABLE VERSION)\n\n\n4:00 PM\nOpen Pit Gates\n\n\n5:00 PM\nPractice Begins\n\n\n8:00 PM\nPractice Ends
URL:https://andersonspeedway.com/event/open-practice-divisions-37/
CATEGORIES:Event
END:VEVENT
BEGIN:VEVENT
DTSTART;VALUE=DATE:20180505
DTEND;VALUE=DATE:20180506
DTSTAMP:20260421T203626
CREATED:20171201T161347Z
LAST-MODIFIED:20180406T193810Z
UID:5936-1525478400-1525564799@andersonspeedway.com
SUMMARY:Saturday Night Racing presented by AERCO Heating and Cooling- CRA Super Series
DESCRIPTION:FEATURING: \n\nCRA Super Series\nHart’s Auto Center Figure 8’s\nMarcums Welding Front Wheel Drives\nVORES Compact Touring Series\n\nAdmission:\n• Adults – $15\n• Kids (6-12) – $4\n• Five and Under Free \nPit Passes:\n• Member – $26\n• Non-Member – $31 \n\n\n\n\n\n\nEVENT SCHEDULE:  (PRINTABLE VERSION)\n\n\n1:30 PM\nOpen Pit Gates\n\n\n3:15 PM\nCRA Drivers Meeting\n\n\n4:00 PM\nPractice – CRA Super Series Only\n\n\n5:00 PM\nRotating Practice – Open Front Gate\n\n\n\nVCTS\n\n\n\nMarcum’s Welding Front Wheel Drives\n\n\n\nHart’s Auto Center Figure 8’s\n\n\n6:30 PM\nQualifications\n\n\n\nCRA Super Series\n\n\n\nVCTS\n\n\n\nFront Wheel Drives\n\n\n\nFigure 8’s\n\n\n7:30 PM\nDriver’s Meeting\n\n\n7:55 PM\nInvocation and National Anthem\n\n\n8:00 PM\nVCTS B Main (15 Laps)\n\n\n\nINTERMISSION\n\n\n\nFeatures\n\n\n\nCRA Super Series (125 Laps)\n\n\n\nVCTS (30 Laps)\n\n\n\nMarcums Welding Front Wheel Drives (30 Laps)\n\n\n\nHart’s Auto Center Figure 8’s (30 Laps)
URL:https://andersonspeedway.com/event/saturday-night-racing-presented-aerco-heating-cooling-cra-super-series/
CATEGORIES:Event
END:VEVENT
BEGIN:VEVENT
DTSTART;VALUE=DATE:20180511
DTEND;VALUE=DATE:20180512
DTSTAMP:20260421T203626
CREATED:20171201T175153Z
LAST-MODIFIED:20180402T141726Z
UID:5992-1525996800-1526083199@andersonspeedway.com
SUMMARY:Open Practice- All Divisions
DESCRIPTION:Open Practice- All Divisions \nAll Pit Passes are $18; Grandstands are open to watch for Free. \n\n\n\nEVENT SCHEDULE:  (PRINTABLE VERSION)\n\n\n4:00 PM\nOpen Pit Gates\n\n\n5:00 PM\nPractice Begins\n\n\n8:00 PM\nPractice Ends
URL:https://andersonspeedway.com/event/open-practice-divisions-38/
CATEGORIES:Event
END:VEVENT
BEGIN:VEVENT
DTSTART;VALUE=DATE:20180512
DTEND;VALUE=DATE:20180513
DTSTAMP:20260421T203626
CREATED:20171201T161557Z
LAST-MODIFIED:20180501T151208Z
UID:5943-1526083200-1526169599@andersonspeedway.com
SUMMARY:Spring Championships
DESCRIPTION:FEATURING: \n\nMcGunegill Engine Late Models\nVORES Welding & Steel Street Stocks\nHart’s Auto Center Figure 8’s\nThunderCars\nMarcums Welding Front Wheel Drives\nThunder Roadsters\n\nAdmission:\n• Adults – $12\n• Kids (6-12) – $4\n• Five and Under Free \nPit Passes:\n• Member – $26\n• Non-Member – $31 \n\n\n\nEVENT SCHEDULE:  (PRINTABLE VERSION)\n\n\n3:30 PM\nOpen Pit Gates\n\n\n4:30 PM\nRotating Practice- Front Gate Opens\n\n\n\nMcGunegill Engine Late Models\n\n\n\nVORES Welding & Steel Street Stocks\n\n\n\nThunder Roadsters\n\n\n\nThunderCars\n\n\n\nMarcum Welding Front Wheel Drives\n\n\n\nHart’s Auto Center Figure 8’s\n\n\n6:30 PM\nQualifications\n\n\n\nMcGunegill Engine Late Models\n\n\n\nVORES Welding & Steel Street Stocks\n\n\n\nThunder Roadsters\n\n\n\nThunderCars\n\n\n\nMarcums Welding Front Wheel Drives\n\n\n\nHart’s Auto Center Figure 8’s\n\n\n7:30 PM\nDrivers Meeting (All Divisions)\n\n\n7:55 PM\nInvocation and National Anthem\n\n\n8:00 PM\nFeatures\n\n\n\nMcGunegill Engine Late Models (40 Laps)\n\n\n\nVORES Welding & Steel Street Stocks (35 Laps)\n\n\n\nIntermission\n\n\n\nThunder Roadsters ( 30 Laps)\n\n\n\nThunderCars (35 Laps)\n\n\n\nMarcums Welding Front Wheel Drives (30 Laps)\n\n\n\nHart’s Auto Center Figure 8’s ( 30 Laps)
URL:https://andersonspeedway.com/event/spring-championships-4/
CATEGORIES:Event
END:VEVENT
BEGIN:VEVENT
DTSTART;VALUE=DATE:20180519
DTEND;VALUE=DATE:20180520
DTSTAMP:20260421T203626
CREATED:20171201T162038Z
LAST-MODIFIED:20171201T162038Z
UID:5948-1526688000-1526774399@andersonspeedway.com
SUMMARY:Special Non-Racing Event
DESCRIPTION:
URL:https://andersonspeedway.com/event/special-non-racing-event/
CATEGORIES:Event
END:VEVENT
BEGIN:VEVENT
DTSTART;VALUE=DATE:20180523
DTEND;VALUE=DATE:20180524
DTSTAMP:20260421T203626
CREATED:20171025T194246Z
LAST-MODIFIED:20180402T142416Z
UID:5839-1527033600-1527119999@andersonspeedway.com
SUMMARY:Pay Less Little 500 presented by UAW-GM Practice
DESCRIPTION:Schedule:\nPractice for the Pay Less Little 500 presented by UAW-GM – 12:00pm-5:00pm \nAdmission to Grandstands:\nFREE to the Public \nPit Passes:\nFour Day- $110\nSingle Day- $25 \n\n\n\nEVENT SCHEDULE:  (PRINTABLE VERSION)\n\n\n10:00 AM\nOpen Pit Gates\n\n\n11:30 AM\nDrivers Meeting\n\n\n12:00 PM\nPractice Begins\n\n\n5:00 PM\nPractice Ends\n\n\n6:00 PM\nThe Tin Plate Feast (Free to Pit Pass Holders)
URL:https://andersonspeedway.com/event/pay-less-little-500-presented-uaw-gm-practice/
CATEGORIES:Event
END:VEVENT
BEGIN:VEVENT
DTSTART;VALUE=DATE:20180524
DTEND;VALUE=DATE:20180525
DTSTAMP:20260421T203626
CREATED:20171025T193716Z
LAST-MODIFIED:20180402T142448Z
UID:5834-1527120000-1527206399@andersonspeedway.com
SUMMARY:The Tin Plate Fine Food & Spirits Practice and Pole Day
DESCRIPTION:Schedule:\nSenior Day at the Track  10:00am-11:30am\nPay Less Little 500 presented by UAW-GM Practice  11:30am-1:15pm\nThe Tin Plate Fine Food and Spirits Pole Day  1:30pm-3:30pm \nAdmission:\nFREE to watch in grandstands \nPit Passes:\n3 Day Pit Pass: $90\nSingle Day Pit Pass: $25 \n\n\n\nEVENT SCHEDULE:  (PRINTABLE VERSION)\n\n\n9:30 AM\nOpen Pit Gates\n\n\n11:00 AM\nLittle 500 Drivers Meeting\n\n\n11:30 AM\nLittle 500 Practice Begins\n\n\n1:15 PM\nLittle 500 Practice Ends\n\n\n1:30 PM\nLittle 500 1st Rounds Qualifying Begins\n\n\n3:30 PM\nLittle 500 1st Rounds Qualifying Ends\n\n\n3:30 PM\nTop 15 qualifiers select pit # – Flag Stand
URL:https://andersonspeedway.com/event/tin-plate-fine-food-spirits-practice-pole-day/
CATEGORIES:Event
END:VEVENT
BEGIN:VEVENT
DTSTART;VALUE=DATE:20180525
DTEND;VALUE=DATE:20180526
DTSTAMP:20260421T203626
CREATED:20171025T191936Z
LAST-MODIFIED:20180522T211135Z
UID:5829-1527206400-1527292799@andersonspeedway.com
SUMMARY:2nd Annual Don & Mel Kenyon Classic presented by Parallax Power Supply and Anderson-Madison County Vistors Bureau
DESCRIPTION:Schedule:\n2nd Annual Don and Mel Kenyon Classic presented by Parallax Power Supply and Anderson-Madison County Visitors Bureau- 7:00pm \nAdmission:\nAdults- $7\nKids (6-12)- $4\n5 and Under- Free \nPit Passes:\n2 Day Pit Pass: $60\nSingle Day Pit Pass: $25 \n\n\n\nEVENT SCHEDULE:  (PRINTABLE VERSION)\n\n\n9:30 AM\nOpen Pit Gates\n\n\n11:00 AM\nLittle 500 Drivers Meeting\n\n\n11:30 AM\nLittle 500 Practice Begins\n\n\n1:15 PM\nLittle 500 Practice Ends\n\n\n1:30 PM\nLittle 500 2nd Rounds Qualifying Begins\n\n\n3:30 PM\nLittle 500 2nd Rounds Qualifying Ends\n\n\n3:30 PM\nFinal 18 qualifiers select pit # – Flag Stand\n\n\n5:30 PM\nPractice- Kenyon Midgets/Thunder Roadsters\n\n\n6:30 PM\nQualifications\n\n\n7:00 PM\nAutograph Session – On Track\n\n\n7:30 PM\nHeat Races\n\n\n\nThunder Roadsters (10 Laps)\n\n\n\nMidwest Vintage Oldtimers Car Club Exhibition\n\n\n\nNon-Qualifiers Race (40 Laps)\n\n\n\nThunder Roadsters (25 Laps)\n\n\n\nDon & Mel Kenyon Classic (75 Laps)
URL:https://andersonspeedway.com/event/2nd-annual-don-mel-kenyon-classic/
CATEGORIES:Event
END:VEVENT
BEGIN:VEVENT
DTSTART;VALUE=DATE:20180525
DTEND;VALUE=DATE:20180526
DTSTAMP:20260421T203626
CREATED:20171025T193529Z
LAST-MODIFIED:20180129T212651Z
UID:5831-1527206400-1527292799@andersonspeedway.com
SUMMARY:Parallax Power Supply Practice and Bump Day
DESCRIPTION:Schedule:\nPay Less Little 500 presented by UAW-GM Practice- 11:30am-1:15pm\nParallax Power Supply Bump Day- 1:30pm-3:30pm \nAdmission:\nFREE to watch in grandstands \nPit Passes:\n2 Day Pit Pass: $60\nSingle Day Pit Pass (Friday): $25 \n\n\n\nEVENT SCHEDULE:  (PRINTABLE VERSION)\n\n\n9:30 AM\nOpen Pit Gates\n\n\n11:00 AM\nLittle 500 Drivers Meeting\n\n\n11:30 AM\nLittle 500 Practice Begins\n\n\n1:15 PM\nLittle 500 Practice Ends\n\n\n1:30 PM\nLittle 500 2nd Rounds Qualifying Begins\n\n\n3:30 PM\nLittle 500 2nd Rounds Qualifying Ends\n\n\n3:30 PM\nFinal 18 qualifiers select pit # – Flag Stand\n\n\n5:30 PM\nPractice- Kenyon Midgets/Thunder Roadsters\n\n\n6:30 PM\nQualifications\n\n\n7:00 PM\nAutograph Session – On Track\n\n\n7:30 PM\nHeat Races\n\n\n7:30 PM\nThunder Roadsters (25 Laps)\n\n\n\nMidwest Vintage Oldtimers Car Club Exhibition\n\n\n\nFeatures\n\n\n\nThunder Roadsters (25 Laps)\n\n\n\nDon & Mel Kenyon Classic (75 Laps)
URL:https://andersonspeedway.com/event/parallax-power-supply-practice-bump-day/
CATEGORIES:Event
END:VEVENT
BEGIN:VEVENT
DTSTART;VALUE=DATE:20180526
DTEND;VALUE=DATE:20180527
DTSTAMP:20260421T203626
CREATED:20171025T191253Z
LAST-MODIFIED:20180402T144636Z
UID:5825-1527292800-1527379199@andersonspeedway.com
SUMMARY:70th Pay Less Little 500 presented by UAW-GM
DESCRIPTION:Schedule:\n29th Annual Hall of Fame Luncheon- 11:00am\nTicket Gates Open- 3:00pm\nGreen Flag – 70th Annual Pay Less Little 500 presented by UAW-GM- 8:00pm \nAdmission:\nTickets Purchased After 12/31/17 – $40\nAll Tickets are reserved. \nYou can purchase tickets two ways. By calling the main office at (765) 642-0206 or by stopping in the main office. Office hours are 10:00am-4:00pm EST Monday through Friday. If the line is busy or after hours\, please leave a message and we will return your call. \nPit Passes:\nSingle Day- $45 (purchase of a pit pass doesn’t guarantee track access) \n  \n\n\n\nEVENT SCHEDULE:  (PRINTABLE VERSION)\n\n\n10:30 AM\nOpen Pit Gates\n\n\n11:30 AM\nHall of Fame Luncheon\n\n\n1:00 PM\nFueling Rig in Infield unitl 3:00pm\n\n\n3:00 PM\nFront Gates Open\n\n\n3:00 PM\nLittle 500 Drivers Meeting\n\n\n3:45 PM\nChapel Service- Pavillion\n\n\n4:15 PM\nAll Cars must be in Infield and Pits Set Up\n\n\n4:30 PM\nWarm Up Session (West end first\, then East)\n\n\n5:30 PM\nDriver Autograph Session (Mandatory in Tent Area)\n\n\n5:30 PM\nSpotters Meeting\n\n\n6:15 PM\nCars must be gridded on track\n\n\n6:30 PM\nSafety and Push truck Meeting (Infield)\n\n\n7:00 PM\nPre Race Activites Begin\n\n\n7:15 PM\nDriver Introductions\n\n\n7:53 PM\nInvocation\, Taps\, & National Anthem\n\n\n8:00 PM\nCommand to Start Engines of the 70th Pay Less Little 500 presented by UAW-GM\n\n\n\n 
URL:https://andersonspeedway.com/event/70th-pay-less-little-500-presented-uaw-gm-2/
CATEGORIES:Event
END:VEVENT
END:VCALENDAR