BEGIN:VCALENDAR
VERSION:2.0
PRODID:-//Anderson, Indiana Speedway - ECPv6.15.20//NONSGML v1.0//EN
CALSCALE:GREGORIAN
METHOD:PUBLISH
X-WR-CALNAME:Anderson, Indiana Speedway
X-ORIGINAL-URL:https://andersonspeedway.com
X-WR-CALDESC:Events for Anderson, Indiana Speedway
REFRESH-INTERVAL;VALUE=DURATION:PT1H
X-Robots-Tag:noindex
X-PUBLISHED-TTL:PT1H
BEGIN:VTIMEZONE
TZID:America/Indiana/Indianapolis
BEGIN:DAYLIGHT
TZOFFSETFROM:-0500
TZOFFSETTO:-0400
TZNAME:EDT
DTSTART:20170312T070000
END:DAYLIGHT
BEGIN:STANDARD
TZOFFSETFROM:-0400
TZOFFSETTO:-0500
TZNAME:EST
DTSTART:20171105T060000
END:STANDARD
BEGIN:DAYLIGHT
TZOFFSETFROM:-0500
TZOFFSETTO:-0400
TZNAME:EDT
DTSTART:20180311T070000
END:DAYLIGHT
BEGIN:STANDARD
TZOFFSETFROM:-0400
TZOFFSETTO:-0500
TZNAME:EST
DTSTART:20181104T060000
END:STANDARD
BEGIN:DAYLIGHT
TZOFFSETFROM:-0500
TZOFFSETTO:-0400
TZNAME:EDT
DTSTART:20190310T070000
END:DAYLIGHT
BEGIN:STANDARD
TZOFFSETFROM:-0400
TZOFFSETTO:-0500
TZNAME:EST
DTSTART:20191103T060000
END:STANDARD
END:VTIMEZONE
BEGIN:VEVENT
DTSTART;VALUE=DATE:20180406
DTEND;VALUE=DATE:20180407
DTSTAMP:20260421T215523
CREATED:20171201T174926Z
LAST-MODIFIED:20180129T185911Z
UID:5986-1522972800-1523059199@andersonspeedway.com
SUMMARY:Open Practice- All Divisions
DESCRIPTION:Open Practice- All Divisions \nAll Pit Passes are $18; Grandstands are open to watch for Free. \n\n\n\nEVENT SCHEDULE:  (PRINTABLE VERSION)\n\n\n3:00 PM\nOpen Pit Gates\n\n\n4:00 PM\nPractice Begins\n\n\n7:00 PM\nPractice Ends
URL:https://andersonspeedway.com/event/open-practice-divisions-36/
CATEGORIES:Event
END:VEVENT
BEGIN:VEVENT
DTSTART;VALUE=DATE:20180407
DTEND;VALUE=DATE:20180408
DTSTAMP:20260421T215523
CREATED:20171201T154339Z
LAST-MODIFIED:20180130T211818Z
UID:5920-1523059200-1523145599@andersonspeedway.com
SUMMARY:Saturday Night Racing - CRA Street Stock & CRA Sportsman
DESCRIPTION:FEATURING: \n\nCRA Sportsman\nCRA Street Stocks\nVores Compact Touring Series\n\nAdmission:\n• Adults – $12\n• Kids (6-12) – $4\n• Five and Under Free \nPit Passes:\n• Member – $26\n• Non-Member – $31 \n\n\n\nEVENT SCHEDULE:  (PRINTABLE VERSION)\n\n\n1:30 PM\nOpen Pit Gates\n\n\n2:30 PM\nCRA Drivers Meeting\n\n\n3:00 PM\nRotating Practice- Front Gate Opens\n\n\n\nCRA Sportsman Late Models\n\n\n\nVORES Compact Touring Series\n\n\n\nCRA Street Stocks\n\n\n4:30 PM\nQualifications\n\n\n\nCRA Sportsman Late Models\n\n\n\nVORES Compact Touring Series\n\n\n\nCRA Street Stocks\n\n\n5:55 PM\nInvocation and National Anthem\n\n\n6:00 PM\nVORES Compact Touring Series Last Chance Race (12 Laps)\n\n\n\nFeatures\n\n\n\nCRA Sportsman Late Models (75 Laps)\n\n\n\nVORES Compact Touring Series (40 Laps)\n\n\n\nCRA Street Stocks (75 Laps)
URL:https://andersonspeedway.com/event/saturday-night-racing-45/
CATEGORIES:Event
END:VEVENT
BEGIN:VEVENT
DTSTART;VALUE=DATE:20180413
DTEND;VALUE=DATE:20180414
DTSTAMP:20260421T215523
CREATED:20180404T180638Z
LAST-MODIFIED:20180404T180638Z
UID:6731-1523577600-1523663999@andersonspeedway.com
SUMMARY:Open Practice - All Divisions
DESCRIPTION:Open Practice- All Divisions \nAll Pit Passes are $18; Grandstands are open to watch for Free. \n\n\n\nEVENT SCHEDULE:  (PRINTABLE VERSION)\n\n\n3:00 PM\nOpen Pit Gates\n\n\n4:00 PM\nPractice Begins\n\n\n7:00 PM\nPractice Ends
URL:https://andersonspeedway.com/event/open-practice-all-divisions-16/
CATEGORIES:Event
END:VEVENT
BEGIN:VEVENT
DTSTART;VALUE=DATE:20180414
DTEND;VALUE=DATE:20180415
DTSTAMP:20260421T215523
CREATED:20171201T154926Z
LAST-MODIFIED:20180130T211706Z
UID:5923-1523664000-1523750399@andersonspeedway.com
SUMMARY:Saturday Night Racing
DESCRIPTION:FEATURING: \n\nUSSA UAW Mel Kenyon Midgets- Parallax Power Supply 30\nThunderCars\nThunder Roadsters\nMidwest Champ Karts\n\nAdmission:\n• Adults – $12\n• Kids (6-12) – $4\n• Five and Under Free \nPit Passes:\n• Member – $26\n• Non-Member – $31 \n\n\n\nEVENT SCHEDULE:  (PRINTABLE VERSION)\n\n\n2:00 PM\nOpen Pit Gates\n\n\n3:00 PM\nRotating Practice- Front Gate Opens\n\n\n\nUSSA Midgets\n\n\n\nThunderCars\n\n\n\nThunder Roadsters\n\n\n\nMidwest Champ Carts\n\n\n4:30 PM\nQualifications\n\n\n\nUSSA Midgets\n\n\n\nThunderCars\n\n\n\nThunder Roadsters\n\n\n\nMidwest Champ Carts\n\n\n5:30 PM\nDrivers Meeting (All Divisions)\n\n\n5:55 PM\nInvocation and National Anthem\n\n\n6:00 PM\nHeats\n\n\n\nUSSA Midgets (10 Laps)\n\n\n\nThunderCars (10 Laps)\n\n\n\nThunder Roadsters (10 Laps)\n\n\n\nMidwest Champ Carts (10 Laps)\n\n\n\nIntermission\n\n\n\nFeatures\n\n\n\nUSSA Midgets (30 Laps)\n\n\n\nThunderCars (30 Laps)\n\n\n\nThunder Roadsters (25 Laps)\n\n\n\nMidwest Champ Carts (25 Laps)
URL:https://andersonspeedway.com/event/saturday-night-racing-51/
CATEGORIES:Event
END:VEVENT
BEGIN:VEVENT
DTSTART;VALUE=DATE:20180421
DTEND;VALUE=DATE:20180422
DTSTAMP:20260421T215523
CREATED:20171201T155126Z
LAST-MODIFIED:20180418T183601Z
UID:5925-1524268800-1524355199@andersonspeedway.com
SUMMARY:Saturday Night Racing
DESCRIPTION:FEATURING: \n\nMcGunegill Engine Late Models\nHart’s Auto Center Figure 8’s\nThunderCars\nMarcums Welding Front Wheel Drives\nThunder Roadsters\n\nAdmission:\n• Adults – $12\n• Kids (6-12) – $4\n• Five and Under Free \nPit Passes:\n• Member – $26\n• Non-Member – $31 \n\n\n\n\n\n\nEVENT SCHEDULE:  (PRINTABLE VERSION)\n\n\n3:00 PM\nOpen Pit Gates\n\n\n4:00 PM\nPractice – Rotating\n\n\n\nThunder Roadsters\n\n\n\nMcGunegil Engine Late Models\n\n\n\nThunderCars\n\n\n\nMarcum Welding Front Wheel Drives\n\n\n\nHart’s Auto Figure 8’s\n\n\n5:30 PM\nQualifications\n\n\n\nThunder Roadsters\n\n\n\nMcGunegil Engine Late Models\n\n\n\nThunderCars\n\n\n\nMarcum Welding Front Wheel Drives\n\n\n\nHart’s Auto Figure 8’s\n\n\n6:30 PM\nDriver’s Meeting\n\n\n6:55 PM\nInvocation and National Anthem\n\n\n7:00 PM\nHeats\n\n\n\nThunder Roadsters (10 Laps)\n\n\n\nMcGunegil Engine Late Models (10 Laps)\n\n\n\nThunderCars (10 Laps)\n\n\n\nMarcum Welding Front Wheel Drives (10 Laps)\n\n\n\nHart’s Auto Figure 8’s (10 Laps)\n\n\n\nINTERMISSION\n\n\n\nFeatures\n\n\n\nThunder Roadsters (25 Laps)\n\n\n\nMcGunegil Engine Late Models (35 Laps)\n\n\n\nThunderCars (30 Laps)\n\n\n\nMarcum Welding Front Wheel Drives (25 Laps)\n\n\n\nHart’s Auto Figure 8’s (25 Laps)\n\n\n\n 
URL:https://andersonspeedway.com/event/saturday-night-racing-52/
CATEGORIES:Event
END:VEVENT
BEGIN:VEVENT
DTSTART;VALUE=DATE:20180428
DTEND;VALUE=DATE:20180429
DTSTAMP:20260421T215523
CREATED:20171201T160626Z
LAST-MODIFIED:20180416T181328Z
UID:5932-1524873600-1524959999@andersonspeedway.com
SUMMARY:Saturday Night Racing
DESCRIPTION:FEATURING: \n\nVORES Welding & Steel Street Stocks\nVROA Modifieds\nThunder Roadsters\nCRS Super Trucks\n\nAdmission:\n• Adults – $12\n• Kids (6-12) – $4\n• Five and Under Free \nPit Passes:\n• Member – $26\n• Non-Member – $31 \n\n\n\n\n\n\nEVENT SCHEDULE:  (PRINTABLE VERSION)\n\n\n3:00 PM\nOpen Pit Gates\n\n\n4:00 PM\nPractice – Rotating\n\n\n\nVORA Modifieds\n\n\n\nCRS Trucks\n\n\n\nVORES Welding & Steel Street Stocks\n\n\n\nThunder Roadsters\n\n\n5:30 PM\nQualifications\n\n\n\nVROA Modifieds\n\n\n\nCRS Trucks\n\n\n\nVORES Welding & Steel Street Stocks\n\n\n\nThunder Roadsters\n\n\n6:30 PM\nDriver’s Meeting\n\n\n6:55 PM\nInvocation and National Anthem\n\n\n7:00 PM\nHeats\n\n\n\nVORA Modifieds (10 Laps)\n\n\n\nVORES Welding & Steel Street Stocks (10 Laps)\n\n\n\nThunder Roadsters (10 Laps)\n\n\n\nINTERMISSION\n\n\n\nFeatures\n\n\n\nVORA Modifieds (30 Laps)\n\n\n\nCRS Trucks (50 Laps)\n\n\n\nVORES Welding & Steel Street Stocks (30 Laps)\n\n\n\nThunder Roadsters (25 Laps)
URL:https://andersonspeedway.com/event/saturday-night-racing-53/
CATEGORIES:Event
END:VEVENT
END:VCALENDAR