BEGIN:VCALENDAR
VERSION:2.0
PRODID:-//Anderson, Indiana Speedway - ECPv6.15.20//NONSGML v1.0//EN
CALSCALE:GREGORIAN
METHOD:PUBLISH
X-WR-CALNAME:Anderson, Indiana Speedway
X-ORIGINAL-URL:https://andersonspeedway.com
X-WR-CALDESC:Events for Anderson, Indiana Speedway
REFRESH-INTERVAL;VALUE=DURATION:PT1H
X-Robots-Tag:noindex
X-PUBLISHED-TTL:PT1H
BEGIN:VTIMEZONE
TZID:America/Indiana/Indianapolis
BEGIN:DAYLIGHT
TZOFFSETFROM:-0500
TZOFFSETTO:-0400
TZNAME:EDT
DTSTART:20170312T070000
END:DAYLIGHT
BEGIN:STANDARD
TZOFFSETFROM:-0400
TZOFFSETTO:-0500
TZNAME:EST
DTSTART:20171105T060000
END:STANDARD
BEGIN:DAYLIGHT
TZOFFSETFROM:-0500
TZOFFSETTO:-0400
TZNAME:EDT
DTSTART:20180311T070000
END:DAYLIGHT
BEGIN:STANDARD
TZOFFSETFROM:-0400
TZOFFSETTO:-0500
TZNAME:EST
DTSTART:20181104T060000
END:STANDARD
BEGIN:DAYLIGHT
TZOFFSETFROM:-0500
TZOFFSETTO:-0400
TZNAME:EDT
DTSTART:20190310T070000
END:DAYLIGHT
BEGIN:STANDARD
TZOFFSETFROM:-0400
TZOFFSETTO:-0500
TZNAME:EST
DTSTART:20191103T060000
END:STANDARD
END:VTIMEZONE
BEGIN:VEVENT
DTSTART;VALUE=DATE:20180317
DTEND;VALUE=DATE:20180318
DTSTAMP:20260421T232518
CREATED:20171201T174641Z
LAST-MODIFIED:20180129T183829Z
UID:5980-1521244800-1521331199@andersonspeedway.com
SUMMARY:Open Practice- All Divisions
DESCRIPTION:Open Practice- All Divisions \nAll Pit Passes are $18; Grandstands are open to watch for Free. \n\n\n\nEVENT SCHEDULE:  (PRINTABLE VERSION)\n\n\n1:00 PM\nOpen Pit Gates\n\n\n2:00 PM\nPractice Begins\n\n\n5:00 PM\nPractice Ends
URL:https://andersonspeedway.com/event/open-practice-divisions-27/
CATEGORIES:Event
END:VEVENT
BEGIN:VEVENT
DTSTART;VALUE=DATE:20180324
DTEND;VALUE=DATE:20180325
DTSTAMP:20260421T232518
CREATED:20171201T174710Z
LAST-MODIFIED:20180129T185531Z
UID:5982-1521849600-1521935999@andersonspeedway.com
SUMMARY:Open Practice- All Divisions
DESCRIPTION:Open Practice- All Divisions \nAll Pit Passes are $18; Grandstands are open to watch for Free. \n\n\n\nEVENT SCHEDULE:  (PRINTABLE VERSION)\n\n\n1:00 PM\nOpen Pit Gates\n\n\n2:00 PM\nPractice Begins\n\n\n5:00 PM\nPractice Ends
URL:https://andersonspeedway.com/event/open-practice-divisions-34/
CATEGORIES:Event
END:VEVENT
BEGIN:VEVENT
DTSTART;VALUE=DATE:20180330
DTEND;VALUE=DATE:20180331
DTSTAMP:20260421T232518
CREATED:20171201T174736Z
LAST-MODIFIED:20180129T185650Z
UID:5984-1522368000-1522454399@andersonspeedway.com
SUMMARY:Open Practice- All Divisions
DESCRIPTION:Open Practice- All Divisions \nAll Pit Passes are $18; Grandstands are open to watch for Free. \n\n\n\nEVENT SCHEDULE:  (PRINTABLE VERSION)\n\n\n3:00 PM\nOpen Pit Gates\n\n\n4:00 PM\nPractice Begins\n\n\n7:00 PM\nPractice Ends
URL:https://andersonspeedway.com/event/open-practice-divisions-35/
CATEGORIES:Event
END:VEVENT
BEGIN:VEVENT
DTSTART;VALUE=DATE:20180331
DTEND;VALUE=DATE:20180401
DTSTAMP:20260421T232518
CREATED:20171201T154057Z
LAST-MODIFIED:20180329T182953Z
UID:5917-1522454400-1522540799@andersonspeedway.com
SUMMARY:Opening Night - Cancelled
DESCRIPTION:FEATURING: \n\nOutlaw Figure 8’s (not rescheduled) \nVORES Welding & Steel Street Stocks (moved to 6/9)\nThunderCars (moved 6/30)\nThunder Roadsters (moved 4/21)\n\nAdmission:\n• Adults – $12\n• Kids (6-12) – $4\n• Five and Under Free \nPit Passes:\n• Member – $26\n• Non-Member – $31 \nPurse: Outlaw Figure 8’s\n1. $1500    11. $180\n2. $750      12. $175\n3. $500      13. $175\n4. $350      14. $175\n5. $300      15. $175\n6. $250      16. $175\n7. $200      17. $175\n8. $195      18. $175\n9. $190      19. $175\n10. $185    20. $175 \n  \n\n\n\nEVENT SCHEDULE:  (PRINTABLE VERSION)\n\n\n1:30 PM\nOpen Pit Gates\n\n\n3:00 PM\nRotating Practice\n\n\n\nOutlaw Figure 8’s\n\n\n\nVORES Welding & Steel Street Stocks\n\n\n\nThunder Roadsters\n\n\n\nThunderCars\n\n\n4:30 PM\nQualifications\n\n\n\nOutlaw Figure 8’s\n\n\n\nVORES Welding & Steel Street Stocks\n\n\n\nThunder Roadsters\n\n\n\nThunderCars\n\n\n5:30 PM\nDriver’s Meeting (All Divisions)\n\n\n5:55 PM\nInvocation and National Anthem\n\n\n6:00 PM\nHeats\n\n\n\nVORES Welding & Steel Street Stocks (10 Laps)\n\n\n\nThunder Roadsters (10 Laps)\n\n\n\nThunderCars (10 Laps)\n\n\n\nINTERMISSION\n\n\n\nFeatures\n\n\n\nOutlaw Figure 8’s (50 Laps)\n\n\n\nVORES Welding & Steel Street Stocks (30 Laps)\n\n\n\nThunder Roadsters (25 Laps)\n\n\n\nThunderCars (30 Laps)
URL:https://andersonspeedway.com/event/openign-night/
CATEGORIES:Event
END:VEVENT
END:VCALENDAR