BEGIN:VCALENDAR
VERSION:2.0
PRODID:-//Anderson, Indiana Speedway - ECPv6.15.20//NONSGML v1.0//EN
CALSCALE:GREGORIAN
METHOD:PUBLISH
X-ORIGINAL-URL:https://andersonspeedway.com
X-WR-CALDESC:Events for Anderson, Indiana Speedway
REFRESH-INTERVAL;VALUE=DURATION:PT1H
X-Robots-Tag:noindex
X-PUBLISHED-TTL:PT1H
BEGIN:VTIMEZONE
TZID:America/Indiana/Indianapolis
BEGIN:DAYLIGHT
TZOFFSETFROM:-0500
TZOFFSETTO:-0400
TZNAME:EDT
DTSTART:20150308T070000
END:DAYLIGHT
BEGIN:STANDARD
TZOFFSETFROM:-0400
TZOFFSETTO:-0500
TZNAME:EST
DTSTART:20151101T060000
END:STANDARD
BEGIN:DAYLIGHT
TZOFFSETFROM:-0500
TZOFFSETTO:-0400
TZNAME:EDT
DTSTART:20160313T070000
END:DAYLIGHT
BEGIN:STANDARD
TZOFFSETFROM:-0400
TZOFFSETTO:-0500
TZNAME:EST
DTSTART:20161106T060000
END:STANDARD
BEGIN:DAYLIGHT
TZOFFSETFROM:-0500
TZOFFSETTO:-0400
TZNAME:EDT
DTSTART:20170312T070000
END:DAYLIGHT
BEGIN:STANDARD
TZOFFSETFROM:-0400
TZOFFSETTO:-0500
TZNAME:EST
DTSTART:20171105T060000
END:STANDARD
END:VTIMEZONE
BEGIN:VEVENT
DTSTART;VALUE=DATE:20161001
DTEND;VALUE=DATE:20161002
DTSTAMP:20260423T004935
CREATED:20151204T150407Z
LAST-MODIFIED:20160829T200637Z
UID:3059-1475280000-1475366399@andersonspeedway.com
SUMMARY:Ivy Tech Season Championships presented by Indy Fuel
DESCRIPTION:FEATURING: \n\nMcGunegill Engine Late Models\nThunder Roadsters\nLegends\nStreet Stocks\n\nTickets: \n\nAdults – $12\nKids (6-12) – $4\nFive and Under Free\n\n\n\n\nEVENT SCHEDULE:  (PRINTABLE VERSION)\n\n\n3:00 PM\nOpen Pit Gates\n\n\n4:00 PM\nRotating Practice\n\n\n\nMcGunegill Engine Late Models\n\n\n\nLegends\n\n\n\nStreet Stocks\n\n\n\nThunder Roadsters\n\n\n5:30 PM\nQualifications\n\n\n\nMcGunegill Engine Late Models\n\n\n\nLegends\n\n\n\nStreet Stocks\n\n\n\nThunder Roadsters\n\n\n6:30 PM\nDriver’s Meeting- (All Divisions)\n\n\n6:58 PM\nInvocation and National Anthem\n\n\n7:00 PM\nHeats\n\n\n\nMcGunegill Engine Late Models (10 Laps)\n\n\n\nLegends (10 Laps)\n\n\n\nStreet Stocks (10 Laps)\n\n\n\nThunder Roadsters (10 Laps)\n\n\n\nIntermission (track inspection) Brief\n\n\n\nFeatures\n\n\n\nMcGunegill Engine Late Models (40 Laps)\n\n\n\nLegends (25 Laps)\n\n\n\nStreet Stocks (30 Laps)\n\n\n\nThunder Roadsters (30 Laps)
URL:https://andersonspeedway.com/event/season-championships-4/
CATEGORIES:Event
END:VEVENT
BEGIN:VEVENT
DTSTART;VALUE=DATE:20161008
DTEND;VALUE=DATE:20161009
DTSTAMP:20260423T004935
CREATED:20151204T150515Z
LAST-MODIFIED:20161003T144848Z
UID:3060-1475884800-1475971199@andersonspeedway.com
SUMMARY:Paint the Night Pink with Tony Elliott Classic presented by McGowan Insurance\, Community Hospital Anderson\, St Vincent Anderson Regional and Star 106.9
DESCRIPTION:FEATURING: \n\nNon-Winged Anderson Sprints\nKenyon Midgets\nPure Vape Indy Faskarts\nCSR Super Cups\n\nTickets: \n\nAdults – $12\nKids (6-12) – $4\nFive and Under Free\n\n\n\n\nEVENT SCHEDULE:  (PRINTABLE VERSION)\n\n\n3:00 PM\nOpen Pit Gates\n\n\n4:00 PM\nRotating Practice\n\n\n\nNon Wing Sprints\n\n\n\nCSR Mini Cups\n\n\n\nMel Kenyon Midgets\n\n\n\nIndy Fast Carts\n\n\n5:30 PM\nQualifications\n\n\n\nNon Wing Sprints\n\n\n\nCSR Mini Cups\n\n\n\nMel Kenyon Midgets\n\n\n\nIndy Fast Carts\n\n\n6:30 PM\nDriver’s Meeting- (All Divisions)\n\n\n6:58 PM\nInvocation and National Anthem\n\n\n7:00 PM\nHeats\n\n\n\nCSR Mini Cups (10 Laps)\n\n\n\nMel Kenyon Midgets (10 Laps)\n\n\n\nIndy Fast Carts (10 Laps)\n\n\n\nIntermission (track inspection) Brief\n\n\n\nFeatures\n\n\n\nTony Elliott Classic Sprints (50 Laps)\n\n\n\nCSR Mini Cups (25 Laps)\n\n\n\nMel Kenyon Midgets (30 Laps)\n\n\n\nIndy Fast Carts (25 Laps)
URL:https://andersonspeedway.com/event/paint-the-pink-with-tony-elliott-classic/
CATEGORIES:Event
END:VEVENT
BEGIN:VEVENT
DTSTART;VALUE=DATE:20161014
DTEND;VALUE=DATE:20161015
DTSTAMP:20260423T004935
CREATED:20151204T150614Z
LAST-MODIFIED:20160621T191032Z
UID:3062-1476403200-1476489599@andersonspeedway.com
SUMMARY:Open Practice - All Divisions
DESCRIPTION:Open Practice All Divisions- Pit Passes $17 \n\n\n\nEVENT SCHEDULE:  (PRINTABLE VERSION)\n\n\n3:00 PM\nOpen Pit Gates\n\n\n4:00 PM\nPractice Begins\n\n\n7:00 PM\nPractice Ends
URL:https://andersonspeedway.com/event/open-practice-all-divisions-14/
CATEGORIES:Event
END:VEVENT
BEGIN:VEVENT
DTSTART;VALUE=DATE:20161015
DTEND;VALUE=DATE:20161016
DTSTAMP:20260423T004935
CREATED:20151204T150716Z
LAST-MODIFIED:20161014T140408Z
UID:3063-1476489600-1476575999@andersonspeedway.com
SUMMARY:Tom Wood Stock Car Festival presented by Best Way Disposal
DESCRIPTION:FEATURING: \n\nMcGunegill Engine Late Models\nOutlaw Figure 8\nFigure 8\nThunder Roadsters\nLegends\nThunderCars\nMarcum’s Welding Pro Compacts/ Vores Compact Touring Series\nStreet Stocks\n\nTickets: \n\nAdults – $15\nKids (6-12) – $4\nFive and Under Free\n\n*Rain Date October 16\, 2016* \n\n\n\nEVENT SCHEDULE:  (PRINTABLE SCHEDULE)\n\n\n1:00 PM\nOpen Pit Gates\n\n\n2:00 PM\nRotating Practice\n\n\n\nMcGunegill Engine Late Models\n\n\n\nStreet Stocks\n\n\n\nThunder Roadsters\n\n\n\nThunderCars\n\n\n\nOutlaw Figure 8’s\n\n\n\nLegends\n\n\n\nVores Compact Touring Series\n\n\n\nHart’s Auto Figure 8’s\n\n\n4:00 PM\nQualifications\n\n\n\nMcGunegill Engine Late Models\n\n\n\nStreet Stocks\n\n\n\nThunder Roadsters\n\n\n\nThunder Cars\n\n\n\nOutlaw Figure 8’s\n\n\n\nLegends\n\n\n\nVores Compact Touring Series\n\n\n\nHart’s Auto Figure 8’s\n\n\n5:30 PM\nDriver’s Meeting- (All Divisions)\n\n\n5:58 PM\nInvocation and National Anthem\n\n\n6:00 PM\nFeatures\n\n\n\nMcGunegill Engine Late Models (40 Laps)\n\n\n\nStreet Stocks (35 Laps)\n\n\n\nThunder Roadsters (30 Laps)\n\n\n\nThunderCars (30 Laps)\n\n\n\nIntermission (track inspection) Brief\n\n\n\nOutlaw Figure 8’s (50 Laps)\n\n\n\nLegends (30 Laps)\n\n\n\nVores Compact Series Touring Series (30 Laps)\n\n\n\nHart’s Auto Figure 8’s (30 Laps)
URL:https://andersonspeedway.com/event/stock-car-festival/
CATEGORIES:Event
END:VEVENT
END:VCALENDAR